BEGIN:VCALENDAR
VERSION:2.0
PRODID:-//ChamberMaster//Event Calendar 2.0//EN
METHOD:PUBLISH
X-PUBLISHED-TTL:P3D
REFRESH-INTERVAL:P3D
CALSCALE:GREGORIAN
BEGIN:VEVENT
DTSTART:20220126T150000Z
DTEND:20220126T160000Z
X-MICROSOFT-CDO-ALLDAYEVENT:FALSE
SUMMARY:Top 5 for Small Business
DESCRIPTION:This Top Five series will feature experts in human resources\, marketing\, accounting\, IT and others. They will introduce five things on certain topics that will help you be successful in your small business.\n \n\nSession Overview: You want to work smarter\, not harder this is how you win at work and succeed in your personal life. As a Full Focus Planner Certified Pro\, Courtney De Ronde is passionate about continuous growth\, and will uncover the toolbox of proven solutions that open the door to a whole new level of productivity and goal achievement\, both in and outside of work.\n\n \nKey Takeaways: \n\n\n	\n	Framework to get you and/or your team on the same page\, focused on what matters most\, and consistently delivering results\n	\n	\n	We all set goals\, but achieving our goals is another thing all together. We'll provide a science-backed goal achievement formula to get the results you desire.
X-ALT-DESC;FMTTYPE=text/html:<p dir="ltr" style="line-height:1.2\;margin-top:0pt\;margin-bottom:0pt\;"><span id="docs-internal-guid-ea9ca562-7fff-b6e7-c1d6-3c02d0b7350f"><span style="font-size: 10pt\; font-family: Arial\; color: rgb(38\, 38\, 38)\; background-color: rgb(255\, 255\, 255)\; font-variant-numeric: normal\; font-variant-east-asian: normal\; vertical-align: baseline\; white-space: pre-wrap\;">This Top Five series will feature experts in human resources\, marketing\, accounting\, IT and others. They will introduce five things on certain topics that will help you be successful in your small business.</span></span></p>\n&nbsp\;\n\n<p dir="ltr" style="line-height:1.2\;margin-top:0pt\;margin-bottom:0pt\;"><span id="docs-internal-guid-ea9ca562-7fff-b6e7-c1d6-3c02d0b7350f"><span style="font-size: 10pt\; font-family: Arial\; color: rgb(38\, 38\, 38)\; background-color: rgb(255\, 255\, 255)\; font-variant-numeric: normal\; font-variant-east-asian: normal\; vertical-align: baseline\; white-space: pre-wrap\;">Session Overview: You want to work smarter\, not harder&mdash\;this is how you win at work and succeed in your personal life. As a Full Focus Planner Certified Pro\, Courtney De Ronde is passionate about continuous growth\, and will uncover the toolbox of proven solutions that open the door to a whole new level of productivity and goal achievement\, both in and outside of work.</span></span></p>\n\n<div>&nbsp\;\n<p dir="ltr" style="line-height:1.2\;background-color:#ffffff\;margin-top:12pt\;margin-bottom:12pt\;"><span id="docs-internal-guid-7f998295-7fff-90d8-8a74-08d00065f5dc"><span style="font-size: 10pt\; font-family: Arial\; color: rgb(38\, 38\, 38)\; background-color: transparent\; font-variant-numeric: normal\; font-variant-east-asian: normal\; vertical-align: baseline\; white-space: pre-wrap\;">Key Takeaways:&nbsp\;</span></span></p>\n\n<ul style="margin-top:0\;margin-bottom:0\;padding-inline-start:48px\;">\n	<li aria-level="1" dir="ltr" style="list-style-type: disc\; font-size: 10pt\; font-family: Montserrat\, sans-serif\; color: rgb(38\, 38\, 38)\; font-variant-numeric: normal\; font-variant-east-asian: normal\; vertical-align: baseline\; white-space: pre\;">\n	<p dir="ltr" role="presentation" style="line-height:1.2\;background-color:#ffffff\;margin-top:23pt\;margin-bottom:0pt\;padding:0pt 0pt 23pt 0pt\;"><span id="docs-internal-guid-7f998295-7fff-90d8-8a74-08d00065f5dc"><span style="font-size: 10pt\; font-family: Arial\; background-color: transparent\; font-variant-numeric: normal\; font-variant-east-asian: normal\; vertical-align: baseline\; white-space: pre-wrap\;">Framework to get you and/or your team on the same page\, focused on what matters most\, and consistently delivering results</span></span></p>\n	</li>\n	<li aria-level="1" dir="ltr" style="list-style-type: disc\; font-size: 10pt\; font-family: Montserrat\, sans-serif\; color: rgb(38\, 38\, 38)\; font-variant-numeric: normal\; font-variant-east-asian: normal\; vertical-align: baseline\; white-space: pre\;">\n	<p dir="ltr" role="presentation" style="line-height:1.2\;background-color:#ffffff\;margin-top:0pt\;margin-bottom:23pt\;"><span id="docs-internal-guid-7f998295-7fff-90d8-8a74-08d00065f5dc"><span style="font-size: 10pt\; font-family: Arial\; background-color: transparent\; font-variant-numeric: normal\; font-variant-east-asian: normal\; vertical-align: baseline\; white-space: pre-wrap\;">We all set goals\, but achieving our goals is another thing all together. We&rsquo\;ll provide a science-backed goal achievement formula to get the results you desire.</span></span></p>\n	</li>\n</ul>\n</div>\n
LOCATION:Online Zoom
UID:e.2646.716
SEQUENCE:3
DTSTAMP:20260420T121619Z
URL:http://business.clivechamber.org/events/details/top-5-for-small-business-716
END:VEVENT

END:VCALENDAR
