BEGIN:VCALENDAR
VERSION:2.0
PRODID:-//ChamberMaster//Event Calendar 2.0//EN
METHOD:PUBLISH
X-PUBLISHED-TTL:P3D
REFRESH-INTERVAL:P3D
CALSCALE:GREGORIAN
BEGIN:VEVENT
DTSTART:20190208T150000Z
DTEND:20190208T160000Z
X-MICROSOFT-CDO-ALLDAYEVENT:FALSE
SUMMARY:2018 Business of the Year Announcement
DESCRIPTION:Join the Clive Chamber Ambassadors & Board Members to surprise the "2018 Business of the Year" Winner!\n\nWe will meet at Clive City Hall (1900 NW 114th Street\, Clive) at 9 am & go together to the winning business to deliver the good news and a balloon bouquet.
X-ALT-DESC;FMTTYPE=text/html:<p style="box-sizing: border-box\; font-family: museo-sans\, sans-serif\; margin: 0px 0px 14px\; font-size: 1.1em\; line-height: 1.8em\; color: rgb(51\, 51\, 51)\; background-color: rgb(255\, 255\, 255)\;">Join the Clive Chamber Ambassadors &amp\; Board Members to surprise the &ldquo\;2018 Business of the Year&rdquo\; Winner!</p>\n\n<p style="box-sizing: border-box\; font-family: museo-sans\, sans-serif\; margin: 0px 0px 14px\; font-size: 1.1em\; line-height: 1.8em\; color: rgb(51\, 51\, 51)\; background-color: rgb(255\, 255\, 255)\;">We will meet at Clive City Hall (1900 NW 114th Street\, Clive) at 9 am &amp\; go together to the winning business to deliver the good news and a balloon bouquet.</p>\n
LOCATION:Clive Chamber of Commerce
UID:e.2646.304
SEQUENCE:3
DTSTAMP:20260421T184246Z
URL:https://business.clivechamber.org/events/details/2018-business-of-the-year-announcement-304
END:VEVENT

END:VCALENDAR
