BEGIN:VCALENDAR
VERSION:2.0
PRODID:-//ChamberMaster//Event Calendar 2.0//EN
METHOD:PUBLISH
X-PUBLISHED-TTL:P3D
REFRESH-INTERVAL:P3D
CALSCALE:GREGORIAN
BEGIN:VEVENT
DTSTART:20190606T223000Z
DTEND:20190607T030000Z
X-MICROSOFT-CDO-ALLDAYEVENT:FALSE
SUMMARY:2019 Chamber Night at Iowa Cubs
DESCRIPTION:Your Chamber Night Ticket Includes:\n\nPre-game tailgate party in the southwest corner of the north parking lot. Brats\, hot dogs\, chips\, dessert\, and soda on a first come first serve basis. There will be FREE games for kids and families.\n\nSeating is general admission. This event is exclusive to Greater Des Moines Partnership & affiliate members only.\n\nTickets purchased after May 30 will be available at the Partnership's will-call tent located northeast of the Cub Club (north parking lot near the stadium).\n\nIf you need more than 15 tickets or have any questions\, please contact Mike Jefferson at mjefferson@DSMpartnership.com or by phone 515-286-4913.\n\nPurchase tickets at: https://desmoinesmetroia.chambermaster.com/eventregistration/register/57720
X-ALT-DESC;FMTTYPE=text/html:<p style="box-sizing: border-box\; font-family: museo-sans\, sans-serif\; margin: 0px 0px 14px\; font-size: 1.1em\; line-height: 1.8em\; color: rgb(51\, 51\, 51)\; background-color: rgb(255\, 255\, 255)\;"><span style="box-sizing: border-box\; font-weight: 700\;">Your Chamber Night Ticket Includes:</span></p>\n\n<p style="box-sizing: border-box\; font-family: museo-sans\, sans-serif\; margin: 0px 0px 14px\; font-size: 1.1em\; line-height: 1.8em\; color: rgb(51\, 51\, 51)\; background-color: rgb(255\, 255\, 255)\;">Pre-game tailgate party in the southwest corner of the north parking lot. Brats\, hot dogs\, chips\, dessert\, and soda on a first come first serve basis. There will be FREE games for kids and families.</p>\n\n<p style="box-sizing: border-box\; font-family: museo-sans\, sans-serif\; margin: 0px 0px 14px\; font-size: 1.1em\; line-height: 1.8em\; color: rgb(51\, 51\, 51)\; background-color: rgb(255\, 255\, 255)\;">Seating is general admission. This event is exclusive to Greater Des Moines Partnership &amp\; affiliate members only.</p>\n\n<p style="box-sizing: border-box\; font-family: museo-sans\, sans-serif\; margin: 0px 0px 14px\; font-size: 1.1em\; line-height: 1.8em\; color: rgb(51\, 51\, 51)\; background-color: rgb(255\, 255\, 255)\;">Tickets purchased after May 30 will be available at the Partnership&rsquo\;s will-call tent located northeast of the Cub Club (north parking lot near the stadium).</p>\n\n<p style="box-sizing: border-box\; font-family: museo-sans\, sans-serif\; margin: 0px 0px 14px\; font-size: 1.1em\; line-height: 1.8em\; color: rgb(51\, 51\, 51)\; background-color: rgb(255\, 255\, 255)\;">If you need more than 15 tickets or have any questions\, please contact Mike Jefferson&nbsp\;at&nbsp\;<a href="mailto:mmiller@DSMpartnership.com?subject=ICUBS%20Tickets" style="box-sizing: border-box\; background-color: transparent\; color: rgb(65\, 180\, 228)\; text-decoration-line: none\;">mjefferson@DSMpartnership.com</a>&nbsp\;or by phone 515-286-4913.</p>\n\n<p style="box-sizing: border-box\; font-family: museo-sans\, sans-serif\; margin: 0px 0px 14px\; font-size: 1.1em\; line-height: 1.8em\; color: rgb(51\, 51\, 51)\; background-color: rgb(255\, 255\, 255)\;">Purchase tickets at:&nbsp\;<a href="https://desmoinesmetroia.chambermaster.com/eventregistration/register/57720" style="box-sizing: border-box\; background-color: transparent\; color: rgb(65\, 180\, 228)\; text-decoration-line: none\;">https://desmoinesmetroia.chambermaster.com/eventregistration/register/57720</a></p>\n
LOCATION:Principal Park\, 1 Line Drive\, Des Moines\, IA 50309
UID:e.2646.20
SEQUENCE:3
DTSTAMP:20260421T005049Z
URL:https://business.clivechamber.org/events/details/2019-chamber-night-at-iowa-cubs-20
END:VEVENT

END:VCALENDAR
