BEGIN:VCALENDAR
VERSION:2.0
PRODID:-//ChamberMaster//Event Calendar 2.0//EN
METHOD:PUBLISH
X-PUBLISHED-TTL:P3D
REFRESH-INTERVAL:P3D
CALSCALE:GREGORIAN
BEGIN:VEVENT
DTSTART:20190719T210000Z
DTEND:20190720T043000Z
X-MICROSOFT-CDO-ALLDAYEVENT:FALSE
SUMMARY:2019 Clive Festival
DESCRIPTION:Friday\, July 19th\n\n\n	11:30 am   8 pm: Aquatic Center Extended Hours!\n	4:30   11:30 pm: Food\, Business and Art Vendors\n	5 pm: Corporate Games: Bags Tournament\n	5 pm   Dusk: Inflatables (cost TBD)\n	5 pm: Kids for Art in Clive Expo\n	6 pm: Kids for Art in Clive   Awards Ceremony\n	5 pm   8 pm: Dick Danger Band\n	6 pm   8 pm: Aquatic Center Special Family Admission Price $15 for families\n	6:30 pm - 8:30 pm: Hot Air Balloon Tethering (south of the Aquatic Center) - sponsored by Community Choice Credit Union\n	8:30 pm   11:30 pm: Abby Normal\n	9:30 pm (Dusk)   Sneak preview of 'Thunder Over Clive' Fireworks for Saturday's main event!\n\n\n* PLEASE NOTE that schedules & times may change so please check www.clivefestival.com periodically for updates.
X-ALT-DESC;FMTTYPE=text/html:<h3 style="box-sizing: border-box\; font-family: museo-sans\, sans-serif\; font-weight: 500\; line-height: 1.1\; color: rgb(2\, 159\, 90)\; margin-top: 20px\; margin-bottom: 15px\; font-size: 1.4em\; background-color: rgb(255\, 255\, 255)\;"><span style="box-sizing: border-box\; color: rgb(0\, 128\, 0)\;">Friday\, July 19th</span></h3>\n\n<ul style="box-sizing: border-box\; font-family: museo-sans\, sans-serif\; margin-top: 0px\; margin-bottom: 14px\; padding-left: 40px\; color: rgb(51\, 51\, 51)\; font-size: 14px\; background-color: rgb(255\, 255\, 255)\;">\n	<li style="box-sizing: border-box\; margin-bottom: 14px\; font-size: 1.1em\; line-height: 1.8em\;"><span style="box-sizing: border-box\; color: rgb(0\, 0\, 0)\;">11:30 am &ndash\; 8 pm:&nbsp\;<span style="box-sizing: border-box\; font-weight: 700\;">Aquatic Center Extended Hours!</span></span></li>\n	<li style="box-sizing: border-box\; margin-bottom: 14px\; font-size: 1.1em\; line-height: 1.8em\;"><span style="box-sizing: border-box\; color: rgb(0\, 0\, 0)\;">4:30 &ndash\; 11:30 pm: Food\, Business and Art&nbsp\;Vendors</span></li>\n	<li style="box-sizing: border-box\; margin-bottom: 14px\; font-size: 1.1em\; line-height: 1.8em\;"><span style="box-sizing: border-box\; color: rgb(0\, 0\, 0)\;">5 pm: Corporate Games: Bags Tournament</span></li>\n	<li style="box-sizing: border-box\; margin-bottom: 14px\; font-size: 1.1em\; line-height: 1.8em\;"><span style="box-sizing: border-box\; color: rgb(0\, 0\, 0)\;">5 pm &ndash\; Dusk: Inflatables (cost TBD)</span></li>\n	<li style="box-sizing: border-box\; margin-bottom: 14px\; font-size: 1.1em\; line-height: 1.8em\;"><span style="box-sizing: border-box\; color: rgb(0\, 0\, 0)\;">5 pm: Kids for Art in Clive Expo</span></li>\n	<li style="box-sizing: border-box\; margin-bottom: 14px\; font-size: 1.1em\; line-height: 1.8em\;"><span style="box-sizing: border-box\; color: rgb(0\, 0\, 0)\;">6 pm: Kids for Art in Clive &ndash\; Awards Ceremony</span></li>\n	<li style="box-sizing: border-box\; margin-bottom: 14px\; font-size: 1.1em\; line-height: 1.8em\;"><span style="box-sizing: border-box\; color: rgb(0\, 0\, 0)\;">5 pm &ndash\; 8 pm:<span style="box-sizing: border-box\; font-weight: 700\;">&nbsp\;Dick Danger Band</span></span></li>\n	<li style="box-sizing: border-box\; margin-bottom: 14px\; font-size: 1.1em\; line-height: 1.8em\;"><span style="box-sizing: border-box\; color: rgb(0\, 0\, 0)\;">6 pm &ndash\; 8 pm:&nbsp\;<span style="box-sizing: border-box\; font-weight: 700\;">Aquatic Center Special Family Admission Price $15 for families</span></span></li>\n	<li style="box-sizing: border-box\; margin-bottom: 14px\; font-size: 1.1em\; line-height: 1.8em\;"><span style="box-sizing: border-box\; color: rgb(0\, 0\, 0)\;">6:30 pm - 8:30 pm: Hot Air Balloon Tethering (south of the Aquatic Center) -&nbsp\;<em>sponsored by Community Choice Credit Union</em></span></li>\n	<li style="box-sizing: border-box\; margin-bottom: 14px\; font-size: 1.1em\; line-height: 1.8em\;"><span style="box-sizing: border-box\; color: rgb(0\, 0\, 0)\;">8:30 pm &ndash\; 11:30 pm:&nbsp\;<span style="box-sizing: border-box\; font-weight: 700\;">Abby Normal</span></span></li>\n	<li style="box-sizing: border-box\; margin-bottom: 14px\; font-size: 1.1em\; line-height: 1.8em\;"><span style="box-sizing: border-box\; color: rgb(0\, 0\, 0)\;">9:30 pm (Dusk) &ndash\;&nbsp\;<em style="box-sizing: border-box\;"><span style="box-sizing: border-box\; font-weight: 700\;">Sneak preview of &lsquo\;Thunder Over Clive&rsquo\; Fireworks</span>&nbsp\;for Saturday&rsquo\;s main event!</em></span></li>\n</ul>\n\n<h3 style="box-sizing: border-box\; font-family: museo-sans\, sans-serif\; font-weight: 500\; line-height: 1.1\; color: rgb(2\, 159\, 90)\; margin-top: 20px\; margin-bottom: 15px\; font-size: 1.4em\; background-color: rgb(255\, 255\, 255)\;"><span style="box-sizing: border-box\; color: rgb(0\, 0\, 0)\;">* PLEASE NOTE that schedules &amp\; times may change&hellip\;so please check</span>&nbsp\;<a href="http://www.clivefestival.com/" style="box-sizing: border-box\; background-color: transparent\; color: rgb(65\, 180\, 228)\; text-decoration-line: none\;"><span style="box-sizing: border-box\; color: rgb(0\, 204\, 255)\;">www.clivefestival.com</span>&nbsp\;</a><span style="box-sizing: border-box\; color: rgb(0\, 0\, 0)\;">periodically for updates.</span></h3>\n
LOCATION:Grounds around the Clive Aquatic Center
UID:e.2646.290
SEQUENCE:3
DTSTAMP:20260421T003601Z
URL:https://business.clivechamber.org/events/details/2019-clive-festival-290
END:VEVENT

END:VCALENDAR
