BEGIN:VCALENDAR
VERSION:2.0
PRODID:-//ChamberMaster//Event Calendar 2.0//EN
METHOD:PUBLISH
X-PUBLISHED-TTL:P3D
REFRESH-INTERVAL:P3D
CALSCALE:GREGORIAN
BEGIN:VEVENT
DTSTART:20190720T120000Z
DTEND:20190721T043000Z
X-MICROSOFT-CDO-ALLDAYEVENT:FALSE
SUMMARY:2019 Clive Festival
DESCRIPTION:Saturday\, July 20th\n\n\n	7:00   8:00 am: Last minute Registration for Clive Running Festival 5k & 10K runs\n	7 am   11 am: Pancake Breakfast   Sponsored by the Clive Lions\n	8 am: "The Clive Running Festival"  starts   Location: Aquatic Center Parking Lot   Pre-register at the Clive Running Festival website\n	9:15 am:"The Clive Running Festival" 1 Mile Run starts (Ages 9-17) Location: Aquatic Center Parking Lot   Pre-register at the Clive Running Festival website\n	9:30 am:"The Clive Running Festival" Tadpole Trot starts (Ages 1-8) Location: Aquatic Center Parking Lot   Pre-register at the Clive Running Festival website\n	10 am   Dusk: Inflatables (cost TBD)\n	11 am   2 pm: Kids Craft Activities at the Clive Library\n	10 am   12 Noon: "Touch a Truck" at the Clive Library/City Hall Parking Lot\n	11 am   11:30 pm: Food\, Business and Art Vendors\n	11:30 am   8 pm: Aquatic Center Activities   1/2 Price Admission all day for all ages!\n	1 pm   5 pm: Giant Slip 'N Slide   Sponsored by the City of Clive Fire Department (Click here to download the Slip 'N Slide Liability Release Form)\n	2:30 pm   5 pm: MercyOne Helicopter arrives south of the aquatic center\n	3 pm   6 pm: Bingo!\n	4:30 pm   6:45 pm: Outdoor Movie at the Clive Library - "LEGO Movie 2" on the Jumbotron!\n	5 pm: Bags Tournament   Location will be near the Beverage Tent - $20 per team (Pre-Registration Only) - deadline Thursday\, July 18 at 5 pm - Register at this link.\n	5 pm   8 pm: Monkey\, Monkey\, Monkey\n	6:30 pm   8:30 pm: Hot Air Balloon Tethering (south of the Aquatic Center) - sponsored by Community Choice Credit Union\n	8:30 pm   11:30 pm: Sons of Gladys Kravitz\n	9:30 pm (Dusk): Clive's 16th annual "Thunder Over Clive" Fireworks display\n\n\n* PLEASE NOTE that schedules & times may change so please check www.clivefestival.com periodically for updates.
X-ALT-DESC;FMTTYPE=text/html:<h3 style="box-sizing: border-box\; font-family: museo-sans\, sans-serif\; font-weight: 500\; line-height: 1.1\; color: rgb(2\, 159\, 90)\; margin-top: 20px\; margin-bottom: 15px\; font-size: 1.4em\; background-color: rgb(255\, 255\, 255)\;"><span style="box-sizing: border-box\; color: rgb(0\, 128\, 0)\;">Saturday\, July 20th</span></h3>\n\n<ul style="box-sizing: border-box\; font-family: museo-sans\, sans-serif\; margin-top: 0px\; margin-bottom: 14px\; padding-left: 40px\; color: rgb(51\, 51\, 51)\; font-size: 14px\; background-color: rgb(255\, 255\, 255)\;">\n	<li style="box-sizing: border-box\; margin-bottom: 14px\; font-size: 1.1em\; line-height: 1.8em\;"><span style="box-sizing: border-box\; color: rgb(0\, 0\, 0)\;">7:00 &ndash\; 8:00 am: Last minute Registration for&nbsp\;<span style="box-sizing: border-box\; font-weight: 700\;">Clive Running Festival 5k &amp\; 10K runs</span></span></li>\n	<li style="box-sizing: border-box\; margin-bottom: 14px\; font-size: 1.1em\; line-height: 1.8em\;"><span style="box-sizing: border-box\; color: rgb(0\, 0\, 0)\;">7 am &ndash\; 11 am:&nbsp\;<span style="box-sizing: border-box\; font-weight: 700\;">Pancake Breakfast &ndash\;</span>&nbsp\;<em style="box-sizing: border-box\;">Sponsored by the Clive Lions</em></span></li>\n	<li style="box-sizing: border-box\; margin-bottom: 14px\; font-size: 1.1em\; line-height: 1.8em\;"><span style="box-sizing: border-box\; color: rgb(0\, 0\, 0)\;">8 am:&nbsp\;<span style="box-sizing: border-box\; font-weight: 700\;">&ldquo\;The Clive Running Festival&rdquo\;&nbsp\;</span>&nbsp\;starts &ndash\; Location: Aquatic Center Parking Lot &ndash\; Pre-register&nbsp\;at the</span>&nbsp\;<a href="https://secure.getmeregistered.com/get_information.php?event_id=126829" rel="noopener noreferrer" style="box-sizing: border-box\; background-color: transparent\; color: rgb(65\, 180\, 228)\; text-decoration-line: none\;" target="_blank">Clive Running Festival website</a></li>\n	<li style="box-sizing: border-box\; margin-bottom: 14px\; font-size: 1.1em\; line-height: 1.8em\;"><span style="box-sizing: border-box\; color: rgb(0\, 0\, 0)\;">9:15 am:<span style="box-sizing: border-box\; font-weight: 700\;">&ldquo\;The Clive Running Festival&rdquo\;&nbsp\;1 Mile Run</span>&nbsp\;starts (Ages 9-17)&nbsp\;Location: Aquatic Center Parking Lot &ndash\; Pre-register&nbsp\;at the</span>&nbsp\;<a href="https://secure.getmeregistered.com/get_information.php?event_id=126829" rel="noopener noreferrer" style="box-sizing: border-box\; background-color: transparent\; color: rgb(65\, 180\, 228)\; text-decoration-line: none\;" target="_blank">Clive Running Festival website</a></li>\n	<li style="box-sizing: border-box\; margin-bottom: 14px\; font-size: 1.1em\; line-height: 1.8em\;"><span style="box-sizing: border-box\; color: rgb(0\, 0\, 0)\;">9:30 am:<span style="box-sizing: border-box\; font-weight: 700\;">&ldquo\;The Clive Running Festival&rdquo\;&nbsp\;Tadpole Trot</span>&nbsp\;starts&nbsp\;(Ages 1-8)&nbsp\;Location: Aquatic Center Parking Lot &ndash\; Pre-register&nbsp\;at the</span>&nbsp\;<a href="https://secure.getmeregistered.com/get_information.php?event_id=126829" rel="noopener noreferrer" style="box-sizing: border-box\; background-color: transparent\; color: rgb(65\, 180\, 228)\; text-decoration-line: none\;" target="_blank">Clive Running Festival website</a></li>\n	<li style="box-sizing: border-box\; margin-bottom: 14px\; font-size: 1.1em\; line-height: 1.8em\;"><span style="box-sizing: border-box\; color: rgb(0\, 0\, 0)\;">10 am &ndash\; Dusk: Inflatables (cost TBD)</span></li>\n	<li style="box-sizing: border-box\; margin-bottom: 14px\; font-size: 1.1em\; line-height: 1.8em\;"><span style="box-sizing: border-box\; color: rgb(0\, 0\, 0)\;">11 am &ndash\; 2 pm:</span>&nbsp\;<b>Kids Craft Activities at the Clive Library</b></li>\n	<li style="box-sizing: border-box\; margin-bottom: 14px\; font-size: 1.1em\; line-height: 1.8em\;"><span style="box-sizing: border-box\; color: rgb(0\, 0\, 0)\;">10&nbsp\;am &ndash\; 12 Noon: &quot\;Touch a Truck&quot\; at the Clive Library/City Hall Parking Lot</span></li>\n	<li style="box-sizing: border-box\; margin-bottom: 14px\; font-size: 1.1em\; line-height: 1.8em\;"><span style="box-sizing: border-box\; color: rgb(0\, 0\, 0)\;">11 am &ndash\; 11:30 pm: Food\, Business and Art&nbsp\;Vendors</span></li>\n	<li style="box-sizing: border-box\; margin-bottom: 14px\; font-size: 1.1em\; line-height: 1.8em\;"><span style="box-sizing: border-box\; color: rgb(0\, 0\, 0)\;">11:30 am &ndash\; 8 pm:&nbsp\;<span style="box-sizing: border-box\; font-weight: 700\;">Aquatic Center Activities</span>&nbsp\;&ndash\;&nbsp\;<span style="box-sizing: border-box\; font-weight: 700\;">1/2 Price Admission</span>&nbsp\;all day for all ages!</span></li>\n	<li style="box-sizing: border-box\; margin-bottom: 14px\; font-size: 1.1em\; line-height: 1.8em\;"><span style="box-sizing: border-box\; color: rgb(0\, 0\, 0)\;">1 pm &ndash\; 5 pm:&nbsp\;<span style="box-sizing: border-box\; font-weight: 700\;">Giant Slip &lsquo\;N Slide&nbsp\;</span></span><em style="box-sizing: border-box\;"><span style="box-sizing: border-box\; color: rgb(0\, 0\, 0)\;">&ndash\; Sponsored by the City of Clive Fire Department</span>&nbsp\;</em>(<a href="https://clivefestival.com/wp-content/uploads/sites/21/2018/05/Slip-n-Slide-Release-Form-2018.pdf" rel="noopener noreferrer" style="box-sizing: border-box\; background-color: transparent\; color: rgb(65\, 180\, 228)\; text-decoration-line: none\;" target="_blank">Click here to download the Slip &lsquo\;N Slide Liability Release Form)</a></li>\n	<li style="box-sizing: border-box\; margin-bottom: 14px\; font-size: 1.1em\; line-height: 1.8em\;"><span style="box-sizing: border-box\; color: rgb(0\, 0\, 0)\;">2:30 pm &ndash\; 5&nbsp\;pm: <strong>MercyOne Helicopter</strong> arrives south of the aquatic center</span></li>\n	<li style="box-sizing: border-box\; margin-bottom: 14px\; font-size: 1.1em\; line-height: 1.8em\;"><span style="box-sizing: border-box\; color: rgb(0\, 0\, 0)\;">3 pm &ndash\; 6&nbsp\;pm:&nbsp\;<span style="box-sizing: border-box\; font-weight: 700\;">Bingo!</span></span></li>\n	<li style="box-sizing: border-box\; margin-bottom: 14px\; font-size: 1.1em\; line-height: 1.8em\;"><span style="box-sizing: border-box\; color: rgb(0\, 0\, 0)\;">4:30 pm &ndash\; 6:45&nbsp\;pm: <strong>Outdoor Movie at the Clive Library</strong> - &quot\;LEGO Movie 2&quot\; on the Jumbotron!</span></li>\n	<li style="box-sizing: border-box\; margin-bottom: 14px\; font-size: 1.1em\; line-height: 1.8em\;"><span style="box-sizing: border-box\; color: rgb(0\, 0\, 0)\;">5 pm:&nbsp\;<span style="box-sizing: border-box\; font-weight: 700\;">Bags Tournament &ndash\; Location will be near the Beverage Tent -&nbsp\;</span>$20 per team (Pre-Registration Only) - deadline Thursday\, July 18 at 5 pm - Register at this <a href="https://cityofclive.activityreg.com/selectactivity_t2.wcs?leaguesid=384">link</a>.</span></li>\n	<li style="box-sizing: border-box\; margin-bottom: 14px\; font-size: 1.1em\; line-height: 1.8em\;"><span style="box-sizing: border-box\; color: rgb(0\, 0\, 0)\;">5 pm &ndash\; 8 pm:&nbsp\;<span style="box-sizing: border-box\; font-weight: 700\;">Monkey\, Monkey\, Monkey</span></span></li>\n	<li style="box-sizing: border-box\; margin-bottom: 14px\; font-size: 1.1em\; line-height: 1.8em\;"><span style="box-sizing: border-box\; color: rgb(0\, 0\, 0)\;">6:30 pm &ndash\; 8:30 pm: Hot Air Balloon Tethering (south of the Aquatic Center) - <em>sponsored by Community Choice Credit Union</em></span></li>\n	<li style="box-sizing: border-box\; margin-bottom: 14px\; font-size: 1.1em\; line-height: 1.8em\;"><span style="box-sizing: border-box\; color: rgb(0\, 0\, 0)\;">8:30 pm &ndash\; 11:30 pm:&nbsp\;<span style="box-sizing: border-box\; font-weight: 700\;">Sons of Gladys Kravitz</span></span></li>\n	<li style="box-sizing: border-box\; margin-bottom: 14px\; font-size: 1.1em\; line-height: 1.8em\;"><span style="box-sizing: border-box\; color: rgb(0\, 0\, 0)\;">9:30 pm (Dusk):&nbsp\;<span style="box-sizing: border-box\; font-weight: 700\;">Clive&rsquo\;s 16th annual &ldquo\;Thunder Over Clive</span>&rdquo\; Fireworks display</span></li>\n</ul>\n\n<h3 style="box-sizing: border-box\; font-family: museo-sans\, sans-serif\; font-weight: 500\; line-height: 1.1\; color: rgb(2\, 159\, 90)\; margin-top: 20px\; margin-bottom: 15px\; font-size: 1.4em\; background-color: rgb(255\, 255\, 255)\;"><span style="box-sizing: border-box\; color: rgb(0\, 0\, 0)\;">* PLEASE NOTE that schedules &amp\; times may change&hellip\;so please check</span>&nbsp\;<span style="box-sizing: border-box\; color: rgb(0\, 204\, 255)\;"><a href="http://www.clivefestival.com/" style="box-sizing: border-box\; background-color: transparent\; color: rgb(0\, 204\, 255)\; text-decoration-line: none\;">www.clivefestival.com&nbsp\;</a></span><span style="box-sizing: border-box\; color: rgb(0\, 0\, 0)\;">periodically for updates.</span></h3>\n
LOCATION:Grounds around the Clive Aquatic Center
UID:e.2646.291
SEQUENCE:3
DTSTAMP:20260420T193343Z
URL:https://business.clivechamber.org/events/details/2019-clive-festival-291
END:VEVENT

END:VCALENDAR
