BEGIN:VCALENDAR
VERSION:2.0
PRODID:-//ChamberMaster//Event Calendar 2.0//EN
METHOD:PUBLISH
X-PUBLISHED-TTL:P3D
REFRESH-INTERVAL:P3D
CALSCALE:GREGORIAN
BEGIN:VEVENT
DTSTART:20191011T170000Z
DTEND:20191020T170000Z
X-MICROSOFT-CDO-ALLDAYEVENT:FALSE
SUMMARY:2019 Clive Restaurant Week
DESCRIPTION:Putting Clive Area Restaurants in the spotlight!\n\nClive Restaurant Week\, presented by the Clive Chamber of Commerce is your opportunity to experience the eateries and breweries in our area.\n\nFor 10 days (October 11   20\, 2019)\, participating venues will offer special bargains only available during this event.\n\nClive Restaurant Week Prizes:\n\n\n	Grand Prize   2020 Family Pass to the Clive Aquatic Center\n	Gift Cards to participating Restaurants\n\n\nHow To Enter for Prizes:\n\nSimply download and print the official Clive Restaurant Week Passport HERE or pick one up at any of our participating restaurants. Be sure to get your passport custom stamped at each venue you visit during Clive Restaurant Week.\n\nReceive 3 stamps   1 entry to win prizes\n\nReceive 4 to 6 stamps   2 entries to win prizes\n\nReceive 7 to 9 stamps   3 entries to win prizes\n\nReceive all 10 stamps   5 entries to win prizes\n\nComplete the passport with your clearly printed name\, address\, phone number and email\, and mail to Clive Chamber of Commerce\, 1900 NW 114th Street\, Clive\, IA 50325. Must be received by October 24th. Winners will be selected and contacted by email on October 25th.\n\n2019 Clive Restaurant Week Participants: TBD
X-ALT-DESC;FMTTYPE=text/html:<h3 style="box-sizing: border-box\; font-family: museo-sans\, sans-serif\; font-weight: 500\; line-height: 1.1\; color: rgb(2\, 159\, 90)\; margin-top: 20px\; margin-bottom: 15px\; font-size: 1.4em\; background-color: rgb(255\, 255\, 255)\;">Putting Clive Area Restaurants in the spotlight!</h3>\n\n<p style="box-sizing: border-box\; font-family: museo-sans\, sans-serif\; margin: 0px 0px 14px\; font-size: 1.1em\; line-height: 1.8em\; color: rgb(51\, 51\, 51)\; background-color: rgb(255\, 255\, 255)\;">Clive Restaurant Week\, presented by the Clive Chamber of Commerce is your opportunity to experience the eateries and breweries in our area.</p>\n\n<p style="box-sizing: border-box\; font-family: museo-sans\, sans-serif\; margin: 0px 0px 14px\; font-size: 1.1em\; line-height: 1.8em\; color: rgb(51\, 51\, 51)\; background-color: rgb(255\, 255\, 255)\;">For 10 days&nbsp\;<span style="box-sizing: border-box\; font-weight: 700\;">(October 11&nbsp\;&ndash\; 20\, 2019)</span>\, participating venues will offer special bargains only available during this event.</p>\n\n<p style="box-sizing: border-box\; font-family: museo-sans\, sans-serif\; margin: 0px 0px 14px\; font-size: 1.1em\; line-height: 1.8em\; color: rgb(51\, 51\, 51)\; background-color: rgb(255\, 255\, 255)\;"><span style="box-sizing: border-box\; font-weight: 700\;">Clive Restaurant Week Prizes:</span></p>\n\n<ul style="box-sizing: border-box\; font-family: museo-sans\, sans-serif\; margin-top: 0px\; margin-bottom: 14px\; padding-left: 40px\; color: rgb(51\, 51\, 51)\; font-size: 14px\; background-color: rgb(255\, 255\, 255)\;">\n	<li style="box-sizing: border-box\; margin-bottom: 14px\; font-size: 1.1em\; line-height: 1.8em\;"><span style="box-sizing: border-box\; font-weight: 700\;">Grand Prize</span>&nbsp\;&ndash\; 2020&nbsp\;Family Pass to the Clive Aquatic Center</li>\n	<li style="box-sizing: border-box\; margin-bottom: 14px\; font-size: 1.1em\; line-height: 1.8em\;">Gift Cards to participating Restaurants</li>\n</ul>\n\n<p style="box-sizing: border-box\; font-family: museo-sans\, sans-serif\; margin: 0px 0px 14px\; font-size: 1.1em\; line-height: 1.8em\; color: rgb(51\, 51\, 51)\; background-color: rgb(255\, 255\, 255)\;"><span style="box-sizing: border-box\; font-weight: 700\;">How To Enter for Prizes:</span><br style="box-sizing: border-box\;" />\nSimply download and print the official Clive Restaurant Week Passport&nbsp\;<a href="https://clivechamber.org/wp-content/uploads/2018/10/67095-Clive-Chamber-RestaurantWeekPassport.pdf" style="box-sizing: border-box\; background-color: transparent\; color: rgb(65\, 180\, 228)\; text-decoration-line: none\;">HERE</a>&nbsp\;or pick one up at any of our participating restaurants. Be sure to get your passport custom stamped at each venue you visit during Clive Restaurant Week.</p>\n\n<p style="box-sizing: border-box\; font-family: museo-sans\, sans-serif\; margin: 0px 0px 14px\; font-size: 1.1em\; line-height: 1.8em\; color: rgb(51\, 51\, 51)\; background-color: rgb(255\, 255\, 255)\;"><span style="box-sizing: border-box\; font-weight: 700\;">Receive 3 stamps &ndash\; 1 entry to win prizes</span><br style="box-sizing: border-box\;" />\n<span style="box-sizing: border-box\; font-weight: 700\;">Receive 4 to 6 stamps &ndash\; 2 entries to win prizes</span><br style="box-sizing: border-box\;" />\n<span style="box-sizing: border-box\; font-weight: 700\;">Receive 7 to 9 stamps &ndash\; 3 entries to win prizes</span><br style="box-sizing: border-box\;" />\n<span style="box-sizing: border-box\; font-weight: 700\;">Receive all 10 stamps &ndash\; 5 entries to win prizes</span></p>\n\n<p style="box-sizing: border-box\; font-family: museo-sans\, sans-serif\; margin: 0px 0px 14px\; font-size: 1.1em\; line-height: 1.8em\; color: rgb(51\, 51\, 51)\; background-color: rgb(255\, 255\, 255)\;">Complete the passport with your clearly printed name\, address\, phone number and email\, and mail to Clive Chamber of Commerce\, 1900 NW 114th Street\, Clive\, IA 50325. Must be received by October 24th. Winners will be selected and contacted by email on October 25th.</p>\n\n<h3 style="box-sizing: border-box\; font-family: museo-sans\, sans-serif\; font-weight: 500\; line-height: 1.1\; color: rgb(2\, 159\, 90)\; margin-top: 20px\; margin-bottom: 15px\; font-size: 1.4em\; background-color: rgb(255\, 255\, 255)\;">2019&nbsp\;Clive Restaurant Week Participants: TBD</h3>\n
LOCATION:
UID:e.2646.293
SEQUENCE:3
DTSTAMP:20260420T034629Z
URL:https://business.clivechamber.org/events/details/2019-clive-restaurant-week-293
END:VEVENT

END:VCALENDAR
