BEGIN:VCALENDAR
VERSION:2.0
PRODID:-//ChamberMaster//Event Calendar 2.0//EN
METHOD:PUBLISH
X-PUBLISHED-TTL:P3D
REFRESH-INTERVAL:P3D
CALSCALE:GREGORIAN
BEGIN:VEVENT
DTSTART:20190803T140000Z
DTEND:20190803T170000Z
X-MICROSOFT-CDO-ALLDAYEVENT:FALSE
SUMMARY:2019 Summer Breeze Run - Battle of the 'Burbs
DESCRIPTION:Summer Breeze Run   Battle of the 'Burbs\n\nMark Your Calendar for Saturday\, Aug. 3\n\nThe 2019 Summer Breeze Battle of the 'Burbs is sure to be epic.\n\nThe event will take place on Saturday\, August 3\, 2019\, on the NCMIC & Professional Solutions campus. Walk (stroller friendly) or run the 5K through the beautiful Clive Country Club neighborhood. Or\, for more challenge\, run the 10K through the beautiful neighborhoods of Clive and Waukee. And bring the kids along for the Kids Fun Run\, featuring an obstacle course.\n\nWhen you register\, you can choose a city to run for   Clive\, Waukee or West Des Moines   or you can choose to run for all. The city with the most participants earns bragging rights\, but everybody wins because 100% of the registration fees benefit nonprofits in these communities.\n\nLet the battle begin!\n\n\n	Sign up here\n	5K is $25  early registration rate through June 7\, 2019\n	10K is $35  early registration rate through June 7\, 2019\n	Kids Fun Run is free! (registration required)\n	Show camaraderie with your city by wearing the appropriate color:\n	\n		Clive Green\n		Waukee Blue\n		West Des Moines Orange\n	\n	\n\n\n\n	Enjoy an exciting day of competition and fun!\n	Stick around after the race for 1st\, 2nd and 3rd place awards in gender and age categories.\n\n\nThe 2019 event promises to be even more fun than the last! Like our Facebook page to stay up to date on the 2019 Summer Breeze Battle of the 'Burbs.
X-ALT-DESC;FMTTYPE=text/html:<h1 style="box-sizing: border-box\; font-family: museo-sans\, sans-serif\; margin: 20px 0px 17px\; font-weight: 500\; line-height: 1.1\; color: rgb(2\, 159\, 90)\; background-color: rgb(255\, 255\, 255)\;">Summer Breeze Run &ndash\; Battle of the &lsquo\;Burbs</h1>\n\n<h3 style="box-sizing: border-box\; font-family: museo-sans\, sans-serif\; font-weight: 500\; line-height: 1.1\; color: rgb(2\, 159\, 90)\; margin-top: 20px\; margin-bottom: 15px\; font-size: 1.4em\; background-color: rgb(255\, 255\, 255)\;">Mark Your Calendar for Saturday\, Aug. 3</h3>\n\n<p style="box-sizing: border-box\; font-family: museo-sans\, sans-serif\; margin: 0px 0px 14px\; font-size: 1.1em\; line-height: 1.8em\; color: rgb(51\, 51\, 51)\; background-color: rgb(255\, 255\, 255)\;">The 2019 Summer Breeze&mdash\;Battle of the &lsquo\;Burbs is sure to be epic.</p>\n\n<p style="box-sizing: border-box\; font-family: museo-sans\, sans-serif\; margin: 0px 0px 14px\; font-size: 1.1em\; line-height: 1.8em\; color: rgb(51\, 51\, 51)\; background-color: rgb(255\, 255\, 255)\;">The event will take place on Saturday\, August 3\, 2019\, on the NCMIC &amp\; Professional Solutions campus. Walk (stroller friendly) or run the 5K through the beautiful Clive Country Club neighborhood. Or\, for more challenge\, run the 10K through the beautiful neighborhoods of Clive and Waukee. And bring the kids along for the Kids Fun Run\, featuring an obstacle course.</p>\n\n<p style="box-sizing: border-box\; font-family: museo-sans\, sans-serif\; margin: 0px 0px 14px\; font-size: 1.1em\; line-height: 1.8em\; color: rgb(51\, 51\, 51)\; background-color: rgb(255\, 255\, 255)\;">When you register\, you can choose a city to run for &ndash\; Clive\, Waukee or West Des Moines &ndash\; or you can choose to run for all. The city with the most participants earns bragging rights\, but everybody wins because 100% of the registration fees benefit nonprofits in these communities.</p>\n\n<p style="box-sizing: border-box\; font-family: museo-sans\, sans-serif\; margin: 0px 0px 14px\; font-size: 1.1em\; line-height: 1.8em\; color: rgb(51\, 51\, 51)\; background-color: rgb(255\, 255\, 255)\;">Let the battle begin!</p>\n\n<ul style="box-sizing: border-box\; font-family: museo-sans\, sans-serif\; margin-top: 0px\; margin-bottom: 14px\; padding-left: 40px\; color: rgb(51\, 51\, 51)\; font-size: 14px\; background-color: rgb(255\, 255\, 255)\;">\n	<li style="box-sizing: border-box\; margin-bottom: 14px\; font-size: 1.1em\; line-height: 1.8em\;"><a href="https://runsignup.com/Race/IA/CLIVE/SummerBreezeRunBOB" rel="noopener" style="box-sizing: border-box\; background-color: transparent\; color: rgb(65\, 180\, 228)\; text-decoration-line: none\;" target="_blank"><u style="box-sizing: border-box\;">Sign up here</u></a></li>\n	<li style="box-sizing: border-box\; margin-bottom: 14px\; font-size: 1.1em\; line-height: 1.8em\;">5K is $25&ndash\; early registration rate through June 7\, 2019</li>\n	<li style="box-sizing: border-box\; margin-bottom: 14px\; font-size: 1.1em\; line-height: 1.8em\;">10K is $35&ndash\; early registration rate through June 7\, 2019</li>\n	<li style="box-sizing: border-box\; margin-bottom: 14px\; font-size: 1.1em\; line-height: 1.8em\;">Kids Fun Run is&nbsp\;<span style="box-sizing: border-box\; font-weight: 700\;">free!</span>&nbsp\;(registration required)</li>\n	<li style="box-sizing: border-box\; margin-bottom: 14px\; font-size: 1.1em\; line-height: 1.8em\;">Show camaraderie with your city by wearing the appropriate color:\n	<ul style="box-sizing: border-box\; margin-top: 0px\; margin-bottom: 14px\; padding-left: 40px\;">\n		<li style="box-sizing: border-box\; margin-bottom: 14px\; font-size: 1.1em\; line-height: 1.8em\;">Clive&mdash\;Green</li>\n		<li style="box-sizing: border-box\; margin-bottom: 14px\; font-size: 1.1em\; line-height: 1.8em\;">Waukee&mdash\;Blue</li>\n		<li style="box-sizing: border-box\; margin-bottom: 14px\; font-size: 1.1em\; line-height: 1.8em\;">West Des Moines&mdash\;Orange</li>\n	</ul>\n	</li>\n</ul>\n\n<ul style="box-sizing: border-box\; font-family: museo-sans\, sans-serif\; margin-top: 0px\; margin-bottom: 14px\; padding-left: 40px\; color: rgb(51\, 51\, 51)\; font-size: 14px\; background-color: rgb(255\, 255\, 255)\;">\n	<li style="box-sizing: border-box\; margin-bottom: 14px\; font-size: 1.1em\; line-height: 1.8em\;">Enjoy an exciting day of competition and fun!</li>\n	<li style="box-sizing: border-box\; margin-bottom: 14px\; font-size: 1.1em\; line-height: 1.8em\;">Stick around after the race for 1st\, 2nd and 3rd place awards in gender and age categories.</li>\n</ul>\n\n<p style="box-sizing: border-box\; font-family: museo-sans\, sans-serif\; margin: 0px 0px 14px\; font-size: 1.1em\; line-height: 1.8em\; color: rgb(51\, 51\, 51)\; background-color: rgb(255\, 255\, 255)\;">The 2019 event promises to be even more fun than the last! Like&nbsp\;<a href="https://www.facebook.com/SummerBreezeRunBoB/" rel="noopener" style="box-sizing: border-box\; background-color: transparent\; color: rgb(65\, 180\, 228)\; text-decoration-line: none\;" target="_blank">our Facebook page</a>&nbsp\;to stay up to date on the 2019 Summer Breeze&mdash\;Battle of the &lsquo\;Burbs.</p>\n
LOCATION:NCMIC Group\, Inc.
UID:e.2646.283
SEQUENCE:3
DTSTAMP:20260420T195259Z
URL:https://business.clivechamber.org/events/details/2019-summer-breeze-run-battle-of-the-burbs-283
END:VEVENT

END:VCALENDAR
