BEGIN:VCALENDAR
VERSION:2.0
PRODID:-//ChamberMaster//Event Calendar 2.0//EN
METHOD:PUBLISH
X-PUBLISHED-TTL:P3D
REFRESH-INTERVAL:P3D
CALSCALE:GREGORIAN
BEGIN:VEVENT
DTSTART:20190516T220000Z
DTEND:20190516T233000Z
X-MICROSOFT-CDO-ALLDAYEVENT:FALSE
SUMMARY:Art Dedication and Business After Hours
DESCRIPTION:The Clive Chamber's May Business After Hours hosted by 515 Brewing Company\, will be a joint event for the City of Clive's Art Along the Trail dedication.\n\nThe event will begin at 5:00 pm with ceremony for the dedication beginning at 5:15 pm at University Boulevard & 78th Street Trailhead (just a outside 515 Brewing Company).  City of Clive elected officials\, the Clive Public Arts Advisory Commission and some of the exhibit's artists will be in attendance.\n\nLight refreshments will be served following the dedication.\n\nPlease bring co-workers and friends for food\, fun & networking with your fellow Clive Chamber members and the general public.
X-ALT-DESC;FMTTYPE=text/html:<p style="box-sizing: border-box\; font-family: museo-sans\, sans-serif\; margin: 0px 0px 14px\; font-size: 1.1em\; line-height: 1.8em\; color: rgb(51\, 51\, 51)\; background-color: rgb(255\, 255\, 255)\;">The Clive Chamber&rsquo\;s May Business After Hours hosted by 515 Brewing Company\, will be a joint event for the City of Clive&rsquo\;s Art Along the Trail dedication.</p>\n\n<p style="box-sizing: border-box\; font-family: museo-sans\, sans-serif\; margin: 0px 0px 14px\; font-size: 1.1em\; line-height: 1.8em\; color: rgb(51\, 51\, 51)\; background-color: rgb(255\, 255\, 255)\;">The event will begin at 5:00 pm with ceremony for the dedication beginning at 5:15&nbsp\;pm at University Boulevard &amp\; 78<span style="box-sizing: border-box\; font-size: 11.55px\; line-height: 0\; position: relative\; vertical-align: baseline\; top: -0.5em\;">th</span>&nbsp\;Street Trailhead&nbsp\;(just a outside 515 Brewing Company).&nbsp\; City of Clive elected officials\, the Clive Public Arts Advisory Commission and some of the exhibit&rsquo\;s artists will be in attendance.</p>\n\n<p style="box-sizing: border-box\; font-family: museo-sans\, sans-serif\; margin: 0px 0px 14px\; font-size: 1.1em\; line-height: 1.8em\; color: rgb(51\, 51\, 51)\; background-color: rgb(255\, 255\, 255)\;">Light refreshments will be served following the dedication.</p>\n\n<p style="box-sizing: border-box\; font-family: museo-sans\, sans-serif\; margin: 0px 0px 14px\; font-size: 1.1em\; line-height: 1.8em\; color: rgb(51\, 51\, 51)\; background-color: rgb(255\, 255\, 255)\;">Please bring co-workers and friends for food\, fun &amp\; networking with your fellow Clive Chamber members and the general public.</p>\n
LOCATION:515 Brewing Company
UID:e.2646.317
SEQUENCE:3
DTSTAMP:20260421T053656Z
URL:https://business.clivechamber.org/events/details/art-dedication-and-business-after-hours-317
END:VEVENT

END:VCALENDAR
