BEGIN:VCALENDAR
VERSION:2.0
PRODID:-//ChamberMaster//Event Calendar 2.0//EN
METHOD:PUBLISH
X-PUBLISHED-TTL:P3D
REFRESH-INTERVAL:P3D
CALSCALE:GREGORIAN
BEGIN:VEVENT
DTSTART;VALUE=DATE:20180816
DTEND;VALUE=DATE:20180817
TRANSP:TRANSPARENT
X-MICROSOFT-CDO-ALLDAYEVENT:TRUE
SUMMARY:August Greenbelt Trail Clean Up
DESCRIPTION:The Clive Chamber recently adopted a portion of the Clive Greenbelt Trail (73rdStreet to 86th Street) and George Lundberg Park (1450 NW 78th Street) as part of the new City of Clive Park and Trail Clean-up Program.\n\nOn Thursday\, August 16 we will hold our third clean-up of the year from 3 to 5 pm.  Bring co-workers and join us for a few hours to help keep Clive beautiful.\n\nCome dressed appropriately for the weather. Closed toed shoes\, long pants and gloves are recommended. Trash bags will be provided.\n\nWe will be meeting at 515 Brewing Company\, 7700 University\, Clive at 3:00 PM\n\nFollowing the cleanup those interested will head to 515 Brewing for a refreshment.
X-ALT-DESC;FMTTYPE=text/html:<div>&nbsp\;</div>\n\n<div>\n<p style="box-sizing: border-box\; font-family: museo-sans\, sans-serif\; margin: 0px 0px 14px\; font-size: 1.1em\; line-height: 1.8em\; color: rgb(51\, 51\, 51)\; background-color: rgb(255\, 255\, 255)\;">The Clive Chamber recently adopted a portion of the Clive Greenbelt Trail (73<span style="box-sizing: border-box\; font-size: 11.55px\; line-height: 0\; position: relative\; vertical-align: baseline\; top: -0.5em\;">rd</span>Street to 86<span style="box-sizing: border-box\; font-size: 11.55px\; line-height: 0\; position: relative\; vertical-align: baseline\; top: -0.5em\;">th</span>&nbsp\;Street) and George Lundberg Park (1450 NW 78<span style="box-sizing: border-box\; font-size: 11.55px\; line-height: 0\; position: relative\; vertical-align: baseline\; top: -0.5em\;">th</span>&nbsp\;Street) as part of the new City of Clive Park and Trail Clean-up Program.</p>\n\n<p style="box-sizing: border-box\; font-family: museo-sans\, sans-serif\; margin: 0px 0px 14px\; font-size: 1.1em\; line-height: 1.8em\; color: rgb(51\, 51\, 51)\; background-color: rgb(255\, 255\, 255)\;">On Thursday\, August 16 we will hold our third clean-up of the year from 3 to 5 pm.&nbsp\; Bring co-workers and join us for a few hours to help keep Clive beautiful.</p>\n\n<p style="box-sizing: border-box\; font-family: museo-sans\, sans-serif\; margin: 0px 0px 14px\; font-size: 1.1em\; line-height: 1.8em\; color: rgb(51\, 51\, 51)\; background-color: rgb(255\, 255\, 255)\;">Come dressed appropriately for the weather. Closed toed shoes\, long pants and gloves are recommended. Trash bags will be provided.</p>\n\n<p style="box-sizing: border-box\; font-family: museo-sans\, sans-serif\; margin: 0px 0px 14px\; font-size: 1.1em\; line-height: 1.8em\; color: rgb(51\, 51\, 51)\; background-color: rgb(255\, 255\, 255)\;"><span style="box-sizing: border-box\; font-weight: 700\;">We will be meeting at 515 Brewing Company\, 7700 University\, Clive at 3:00 PM</span></p>\n\n<p style="box-sizing: border-box\; font-family: museo-sans\, sans-serif\; margin: 0px 0px 14px\; font-size: 1.1em\; line-height: 1.8em\; color: rgb(51\, 51\, 51)\; background-color: rgb(255\, 255\, 255)\;">Following the cleanup those interested will head to 515 Brewing for a refreshment.</p>\n</div>\n
LOCATION:515 Brewing Company
UID:e.2646.342
SEQUENCE:3
DTSTAMP:20260423T010018Z
URL:https://business.clivechamber.org/events/details/august-greenbelt-trail-clean-up-342
END:VEVENT

END:VCALENDAR
