BEGIN:VCALENDAR
VERSION:2.0
PRODID:-//ChamberMaster//Event Calendar 2.0//EN
METHOD:PUBLISH
X-PUBLISHED-TTL:P3D
REFRESH-INTERVAL:P3D
CALSCALE:GREGORIAN
BEGIN:VEVENT
DTSTART:20300108T220000Z
DTEND:20300108T230000Z
X-MICROSOFT-CDO-ALLDAYEVENT:FALSE
SUMMARY:Board of Directors Meeting
DESCRIPTION:
X-ALT-DESC;FMTTYPE=text/html:
LOCATION:Clive City Hall - North West Conference Room
UID:e.2646.278
SEQUENCE:3
DTSTAMP:20260426T004618Z
URL:https://business.clivechamber.org/events/details/board-of-directors-meeting-01-08-2030-278
END:VEVENT

END:VCALENDAR
