BEGIN:VCALENDAR
VERSION:2.0
PRODID:-//ChamberMaster//Event Calendar 2.0//EN
METHOD:PUBLISH
X-PUBLISHED-TTL:P3D
REFRESH-INTERVAL:P3D
CALSCALE:GREGORIAN
BEGIN:VEVENT
DTSTART:20270413T210000Z
DTEND:20270413T220000Z
X-MICROSOFT-CDO-ALLDAYEVENT:FALSE
SUMMARY:Board of Directors Meeting
DESCRIPTION:
X-ALT-DESC;FMTTYPE=text/html:
LOCATION:Clive City Hall - North West Conference Room
UID:e.2646.245
SEQUENCE:3
DTSTAMP:20260423T060702Z
URL:https://business.clivechamber.org/events/details/board-of-directors-meeting-04-13-2027-245
END:VEVENT

END:VCALENDAR
