BEGIN:VCALENDAR
VERSION:2.0
PRODID:-//ChamberMaster//Event Calendar 2.0//EN
METHOD:PUBLISH
X-PUBLISHED-TTL:P3D
REFRESH-INTERVAL:P3D
CALSCALE:GREGORIAN
BEGIN:VEVENT
DTSTART:20190417T233000Z
DTEND:20190418T010000Z
X-MICROSOFT-CDO-ALLDAYEVENT:FALSE
SUMMARY:Book Talk with Cookbook Author Chef Terrie Kohl
DESCRIPTION:Join the Clive Chamber and Clive Library for an evening of food and inspiration with local chef and now cookbook author\, Terrie Kohl.\n\nChef Terrie\, Clive caterer and cooking instructor\, will have her new cookbook available for purchase and signature.\n\nShe will talk about her cooking journey as well as demo a scrumptious salad.
X-ALT-DESC;FMTTYPE=text/html:<p style="box-sizing: border-box\; font-family: museo-sans\, sans-serif\; margin: 0px 0px 14px\; font-size: 1.1em\; line-height: 1.8em\; color: rgb(51\, 51\, 51)\; background-color: rgb(255\, 255\, 255)\;">Join the Clive Chamber and Clive Library for an evening of food and inspiration with local chef and now cookbook author\, Terrie Kohl.</p>\n\n<p style="box-sizing: border-box\; font-family: museo-sans\, sans-serif\; margin: 0px 0px 14px\; font-size: 1.1em\; line-height: 1.8em\; color: rgb(51\, 51\, 51)\; background-color: rgb(255\, 255\, 255)\;">Chef Terrie\, Clive caterer and cooking instructor\, will have her new cookbook available for purchase and signature.</p>\n\n<p style="box-sizing: border-box\; font-family: museo-sans\, sans-serif\; margin: 0px 0px 14px\; font-size: 1.1em\; line-height: 1.8em\; color: rgb(51\, 51\, 51)\; background-color: rgb(255\, 255\, 255)\;">She will talk about her cooking journey as well as demo a scrumptious salad.</p>\n
LOCATION:Clive Public Library
UID:e.2646.312
SEQUENCE:3
DTSTAMP:20260421T140251Z
URL:https://business.clivechamber.org/events/details/book-talk-with-cookbook-author-chef-terrie-kohl-312
END:VEVENT

END:VCALENDAR
