BEGIN:VCALENDAR
VERSION:2.0
PRODID:-//ChamberMaster//Event Calendar 2.0//EN
METHOD:PUBLISH
X-PUBLISHED-TTL:P3D
REFRESH-INTERVAL:P3D
CALSCALE:GREGORIAN
BEGIN:VEVENT
DTSTART:20190919T223000Z
DTEND:20190919T230000Z
X-MICROSOFT-CDO-ALLDAYEVENT:FALSE
SUMMARY:Canary Park Dedication & Ice Cream Social
DESCRIPTION:Dedication and ribbon cutting for Clive's newest Park.  Ceremony will include remarks from Mayor Cirksena and the Clive Park Board Chair.  Free Ice Cream for all attendees.  Following the ceremony join Mayor Cirksena and Clive City Manager Matt McQuillen for a walk and conversation through the neighborhood.
X-ALT-DESC;FMTTYPE=text/html:Dedication and ribbon cutting for Clive&#39\;s newest Park.&nbsp\; Ceremony will include remarks from Mayor Cirksena and the Clive Park Board Chair.&nbsp\; Free Ice Cream for all attendees.&nbsp\; Following the ceremony join Mayor Cirksena and Clive City Manager Matt McQuillen for a walk and conversation through the neighborhood.
LOCATION:Canary Park Street Parking available along Airline Drive or NW 167th
UID:e.2646.419
SEQUENCE:3
DTSTAMP:20260420T135437Z
URL:https://business.clivechamber.org/events/details/canary-park-dedication-ice-cream-social-419
END:VEVENT

END:VCALENDAR
