BEGIN:VCALENDAR
VERSION:2.0
PRODID:-//ChamberMaster//Event Calendar 2.0//EN
METHOD:PUBLISH
X-PUBLISHED-TTL:P3D
REFRESH-INTERVAL:P3D
CALSCALE:GREGORIAN
BEGIN:VEVENT
DTSTART:20160613T140000Z
DTEND:20160613T150000Z
X-MICROSOFT-CDO-ALLDAYEVENT:FALSE
SUMMARY:Clive Chamber 5 Borough Bagels Ribbon Cutting
DESCRIPTION:Join us to celebrate the opening of 5 Borough Bagels!  Open House 9 to 10 AM. Ribbon cutting ceremony at 9:15 AM.\n\nLight Refreshments will be served.\n\nwww.5boroughbagels.com
X-ALT-DESC;FMTTYPE=text/html:<p style="box-sizing: border-box\; font-family: museo-sans\, sans-serif\; margin: 0px 0px 14px\; font-size: 1.1em\; line-height: 1.8em\; color: rgb(51\, 51\, 51)\; background-color: rgb(255\, 255\, 255)\;">Join us to celebrate the opening of 5 Borough Bagels! &nbsp\;Open House 9 to 10 AM. Ribbon cutting ceremony at 9:15 AM.</p>\n\n<p style="box-sizing: border-box\; font-family: museo-sans\, sans-serif\; margin: 0px 0px 14px\; font-size: 1.1em\; line-height: 1.8em\; color: rgb(51\, 51\, 51)\; background-color: rgb(255\, 255\, 255)\;">Light Refreshments will be served.</p>\n\n<p style="box-sizing: border-box\; font-family: museo-sans\, sans-serif\; margin: 0px 0px 14px\; font-size: 1.1em\; line-height: 1.8em\; color: rgb(51\, 51\, 51)\; background-color: rgb(255\, 255\, 255)\;"><a href="http://5boroughbagels.com/" style="box-sizing: border-box\; color: rgb(65\, 180\, 228)\; text-decoration: none\; background-color: transparent\;">www.5boroughbagels.com</a></p>\n
LOCATION:5 Borough Bagels 13435 University Avenue\, Suite 300\, Clive\, IA 50325
UID:e.2646.11
SEQUENCE:3
DTSTAMP:20260425T113541Z
URL:https://business.clivechamber.org/events/details/clive-chamber-5-borough-bagels-ribbon-cutting-06-13-2016-11
END:VEVENT

END:VCALENDAR
