BEGIN:VCALENDAR
VERSION:2.0
PRODID:-//ChamberMaster//Event Calendar 2.0//EN
METHOD:PUBLISH
X-PUBLISHED-TTL:P3D
REFRESH-INTERVAL:P3D
CALSCALE:GREGORIAN
BEGIN:VEVENT
DTSTART:20160623T210000Z
DTEND:20160624T000000Z
X-MICROSOFT-CDO-ALLDAYEVENT:FALSE
SUMMARY:Clive Chamber - American Family Insurance Ribbon Cutting
DESCRIPTION:Join us to celebrate the opening of the Emily Davis American Family Insurance Agency in Clive. Open House 4  to 7 pm. Ribbon Cutting Ceremony at 4:15 pm.\n\nLight refreshments will be provided.\n\nhttp://insurance-agency.amfam.com/IA/emily-davis/
X-ALT-DESC;FMTTYPE=text/html:<div>&nbsp\;</div>\n\n<div>\n<p style="box-sizing: border-box\; font-family: museo-sans\, sans-serif\; margin: 0px 0px 14px\; font-size: 1.1em\; line-height: 1.8em\; color: rgb(51\, 51\, 51)\; background-color: rgb(255\, 255\, 255)\;">Join us to celebrate the opening of the Emily Davis American Family Insurance Agency&nbsp\;in Clive. Open House 4 &nbsp\;to 7 pm. Ribbon Cutting Ceremony at 4:15 pm.</p>\n\n<p style="box-sizing: border-box\; font-family: museo-sans\, sans-serif\; margin: 0px 0px 14px\; font-size: 1.1em\; line-height: 1.8em\; color: rgb(51\, 51\, 51)\; background-color: rgb(255\, 255\, 255)\;">Light refreshments will be provided.</p>\n\n<p style="box-sizing: border-box\; font-family: museo-sans\, sans-serif\; margin: 0px 0px 14px\; font-size: 1.1em\; line-height: 1.8em\; color: rgb(51\, 51\, 51)\; background-color: rgb(255\, 255\, 255)\;"><a href="http://insurance-agency.amfam.com/IA/emily-davis/" style="box-sizing: border-box\; color: rgb(65\, 180\, 228)\; text-decoration: none\; background-color: transparent\;">http://insurance-agency.amfam.com/IA/emily-davis/</a></p>\n</div>\n
LOCATION:American Family Insurance 2200 NW 159th Street\, Suite 500\, Clive\, IA 50325
UID:e.2646.14
SEQUENCE:3
DTSTAMP:20260425T114146Z
URL:https://business.clivechamber.org/events/details/clive-chamber-american-family-insurance-ribbon-cutting-06-23-2016-14
END:VEVENT

END:VCALENDAR
