BEGIN:VCALENDAR
VERSION:2.0
PRODID:-//ChamberMaster//Event Calendar 2.0//EN
METHOD:PUBLISH
X-PUBLISHED-TTL:P3D
REFRESH-INTERVAL:P3D
CALSCALE:GREGORIAN
BEGIN:VEVENT
DTSTART:20160519T220000Z
DTEND:20160520T000000Z
X-MICROSOFT-CDO-ALLDAYEVENT:FALSE
SUMMARY:Clive Chamber - Art Along the Trail Dedication and Business After Hours
DESCRIPTION:The Clive Chamber's May Business After Hours hosted by 515 Brewing Company and will be a joint event with the City of Clive's Art Along the Trail summer exhibit dedication.\n\nThe event will be held at 515 Brewing Company in Clive and begin at 5:00 pm.  The ceremony for the dedication will take place at approx. 5:15 pm at University Boulevard & 78th Street Trailhead (just a outside 515 Brewing Company).  City of Clive elected officials\, the Clive Public Arts Advisory Commission and some of the exhibit's artist will be in attendance.\n\nRefreshments will be served following the dedication and the event will conclude at 7:00 pm.\n\nPlease bring co-workers and friends for food\, fun & networking with your fellow Clive Chamber members and the general public.\n\nNo charge to attend\, but RSVP's are requested to accommodate for food and beverages.
X-ALT-DESC;FMTTYPE=text/html:<p style="box-sizing: border-box\; font-family: museo-sans\, sans-serif\; margin: 0px 0px 14px\; font-size: 1.1em\; line-height: 1.8em\; color: rgb(51\, 51\, 51)\; background-color: rgb(255\, 255\, 255)\;">The Clive Chamber&rsquo\;s May Business After Hours hosted by 515 Brewing Company and&nbsp\;will be a joint event with the City of Clive&rsquo\;s Art Along the Trail summer exhibit dedication.</p>\n\n<p style="box-sizing: border-box\; font-family: museo-sans\, sans-serif\; margin: 0px 0px 14px\; font-size: 1.1em\; line-height: 1.8em\; color: rgb(51\, 51\, 51)\; background-color: rgb(255\, 255\, 255)\;">The event will be held at 515 Brewing Company&nbsp\;in Clive and begin at 5:00 pm.&nbsp\; The ceremony for the dedication will take place at approx. 5:15&nbsp\;pm at University Boulevard &amp\; 78<span style="box-sizing: border-box\; vertical-align: baseline\; font-size: 11.55px\; line-height: 0\; position: relative\; top: -0.5em\;">th</span>&nbsp\;Street Trailhead&nbsp\;(just a outside 515 Brewing Company).&nbsp\; City of Clive elected officials\, the Clive Public Arts Advisory Commission and some of the exhibit&rsquo\;s artist will be in attendance.</p>\n\n<p style="box-sizing: border-box\; font-family: museo-sans\, sans-serif\; margin: 0px 0px 14px\; font-size: 1.1em\; line-height: 1.8em\; color: rgb(51\, 51\, 51)\; background-color: rgb(255\, 255\, 255)\;">Refreshments will be served following the dedication and the event will conclude at 7:00&nbsp\;pm.</p>\n\n<p style="box-sizing: border-box\; font-family: museo-sans\, sans-serif\; margin: 0px 0px 14px\; font-size: 1.1em\; line-height: 1.8em\; color: rgb(51\, 51\, 51)\; background-color: rgb(255\, 255\, 255)\;">Please bring co-workers and friends for food\, fun &amp\; networking with your fellow Clive Chamber members and the general public.</p>\n\n<p style="box-sizing: border-box\; font-family: museo-sans\, sans-serif\; margin: 0px 0px 14px\; font-size: 1.1em\; line-height: 1.8em\; color: rgb(51\, 51\, 51)\; background-color: rgb(255\, 255\, 255)\;">No charge to attend\, but RSVP&rsquo\;s are requested to accommodate for food and beverages.</p>\n
LOCATION:515 Brewing Company 7700 University\, Clive
UID:e.2646.7
SEQUENCE:3
DTSTAMP:20260425T114007Z
URL:https://business.clivechamber.org/events/details/clive-chamber-art-along-the-trail-dedication-and-business-after-hours-05-19-2016-7
END:VEVENT

END:VCALENDAR
