BEGIN:VCALENDAR
VERSION:2.0
PRODID:-//ChamberMaster//Event Calendar 2.0//EN
METHOD:PUBLISH
X-PUBLISHED-TTL:P3D
REFRESH-INTERVAL:P3D
CALSCALE:GREGORIAN
BEGIN:VEVENT
DTSTART:20160524T200000Z
DTEND:20160524T213000Z
X-MICROSOFT-CDO-ALLDAYEVENT:FALSE
SUMMARY:Clive Chamber - Bishop White Insurance and Financial Services Ribbon Cutting
DESCRIPTION:Join us to celebrate the opening of Bishop White Insurance & Financial Services with the Downtown Des Moines Chamber. Open House 4 to 5:30 pm. Ribbon Cutting Ceremony at 4:30 pm.\n\nOwner Jason Grams is a Clive Chamber Ambassador and Clive Resident.\n\nLight Refreshments will be served.\n\nwww.bishop-white.com\n\n\nOn Monday\, April 11th\, after many years of planning and preparation\, Jason Grams resigned from Nationwide and launched Bishop White Insurance & Financial Services\, Inc.  Building an organization has been a life-long ambition for Jason\, and as a Certified Insurance Counselor (CIC)\, he is committed to treating each client with the personal care and attention they deserve.\n\nBishop White is a full service agency specializing in home\, auto\, business\, farm\, and life insurance.  The company is dedicated to providing you with an unsurpassed service experience\, while tailoring insurance solutions to meet your individual needs.  Bishop White works closely with the most trustworthy insurance companies in the nation in order to protect families\, businesses\, and farms in central Iowa and throughout the Midwest.\n\nJason G. Grams\,\n\nCertified Insurance Counselor (CIC)\n\nOwner & General Manager
X-ALT-DESC;FMTTYPE=text/html:<p style="box-sizing: border-box\; font-family: museo-sans\, sans-serif\; margin: 0px 0px 14px\; font-size: 1.1em\; line-height: 1.8em\; color: rgb(51\, 51\, 51)\; background-color: rgb(255\, 255\, 255)\;">Join us to celebrate the opening of Bishop White Insurance &amp\; Financial Services with the Downtown Des Moines Chamber. Open House 4 to 5:30 pm.&nbsp\;<strong style="box-sizing: border-box\;">Ribbon Cutting Ceremony at 4:30 pm.</strong></p>\n\n<p style="box-sizing: border-box\; font-family: museo-sans\, sans-serif\; margin: 0px 0px 14px\; font-size: 1.1em\; line-height: 1.8em\; color: rgb(51\, 51\, 51)\; background-color: rgb(255\, 255\, 255)\;">Owner Jason Grams is a Clive Chamber Ambassador and Clive Resident.</p>\n\n<p style="box-sizing: border-box\; font-family: museo-sans\, sans-serif\; margin: 0px 0px 14px\; font-size: 1.1em\; line-height: 1.8em\; color: rgb(51\, 51\, 51)\; background-color: rgb(255\, 255\, 255)\;">Light Refreshments will be served.</p>\n\n<p style="box-sizing: border-box\; font-family: museo-sans\, sans-serif\; margin: 0px 0px 14px\; font-size: 1.1em\; line-height: 1.8em\; color: rgb(51\, 51\, 51)\; background-color: rgb(255\, 255\, 255)\;"><a href="http://www.bishop-white.com/" style="box-sizing: border-box\; color: rgb(65\, 180\, 228)\; text-decoration: none\; background-color: transparent\;">www.bishop-white.com</a></p>\n\n<hr style="box-sizing: content-box\; font-family: museo-sans\, sans-serif\; height: 0px\; margin-top: 20px\; margin-bottom: 20px\; border-right-width: 0px\; border-bottom-width: 0px\; border-left-width: 0px\; border-top-style: solid\; border-top-color: rgb(238\, 238\, 238)\; color: rgb(51\, 51\, 51)\; font-size: 14px\; line-height: 20px\; background-color: rgb(255\, 255\, 255)\;" />\n<p style="box-sizing: border-box\; font-family: museo-sans\, sans-serif\; margin: 0px 0px 14px\; font-size: 1.1em\; line-height: 1.8em\; color: rgb(51\, 51\, 51)\; background-color: rgb(255\, 255\, 255)\;">On Monday\, April 11<span style="box-sizing: border-box\; font-size: 11.55px\; line-height: 0\; position: relative\; vertical-align: baseline\; top: -0.5em\;">th</span>\, after many years of planning and preparation\, Jason Grams resigned from Nationwide and launched&nbsp\;<strong style="box-sizing: border-box\;">Bishop White Insurance&nbsp\;</strong><em style="box-sizing: border-box\;">&amp\;</em><strong style="box-sizing: border-box\;">&nbsp\;Financial Services\, Inc.</strong>&nbsp\; Building an organization has been a life-long ambition for Jason\, and as a Certified Insurance Counselor (CIC)\, he is committed to treating each client with the personal care and attention they deserve.</p>\n\n<p style="box-sizing: border-box\; font-family: museo-sans\, sans-serif\; margin: 0px 0px 14px\; font-size: 1.1em\; line-height: 1.8em\; color: rgb(51\, 51\, 51)\; background-color: rgb(255\, 255\, 255)\;">Bishop White is a full service agency specializing in home\, auto\, business\, farm\, and life insurance.&nbsp\; The company is dedicated to providing you with an unsurpassed service experience\, while tailoring insurance solutions to meet your individual needs.&nbsp\; Bishop White works closely with the most trustworthy insurance companies in the nation in order to protect families\, businesses\, and farms in central Iowa and throughout the Midwest.</p>\n\n<p style="box-sizing: border-box\; font-family: museo-sans\, sans-serif\; margin: 0px 0px 14px\; font-size: 1.1em\; line-height: 1.8em\; color: rgb(51\, 51\, 51)\; background-color: rgb(255\, 255\, 255)\;"><strong style="box-sizing: border-box\;">Jason G. Grams\,</strong><br style="box-sizing: border-box\;" />\n<strong style="box-sizing: border-box\;">Certified Insurance Counselor (CIC)</strong><br style="box-sizing: border-box\;" />\n<strong style="box-sizing: border-box\;"><em style="box-sizing: border-box\;">Owner &amp\; General Manager</em></strong></p>\n
LOCATION:Bishop White Insurance and Financial Services 699 Walnut Street\, Suite 400\, Des Moines\, IA 50309
UID:e.2646.8
SEQUENCE:3
DTSTAMP:20260425T115759Z
URL:https://business.clivechamber.org/events/details/clive-chamber-bishop-white-insurance-and-financial-services-ribbon-cutting-05-24-2016-8
END:VEVENT

END:VCALENDAR
