BEGIN:VCALENDAR
VERSION:2.0
PRODID:-//ChamberMaster//Event Calendar 2.0//EN
METHOD:PUBLISH
X-PUBLISHED-TTL:P3D
REFRESH-INTERVAL:P3D
CALSCALE:GREGORIAN
BEGIN:VEVENT
DTSTART;VALUE=DATE:20160310
DTEND;VALUE=DATE:20160311
TRANSP:TRANSPARENT
X-MICROSOFT-CDO-ALLDAYEVENT:TRUE
SUMMARY:Clive Chamber - Business over Breakfast
DESCRIPTION:This NEW event will feature guest speakers discussing issues that you want to learn more about. Current news\, marketing\, business management\, social media\, and much more.\n\n\n\nWednesday\, March 9\n\n7:30 to 9 am\n\nLocation: Iowa Heart Center   5880 University Avenue\, West Des Moines\, IA 50266 (First Floor Auditorium)\n\n\n\nSpeaker: Dr. Eric Martin\, Cardiologist\n\n\n\nTopic: Life's Simple Seven\n\n\n\n7:30 to 8:00 am   Enjoy a light breakfast\, mingle and network with other chamber members\n\n\n\n8:00 to 8:30 am   Presentation\n\n\n\n8:30 to 9:00 am   Attendees form a circle to introduce themselves and provide a 30-second commercial on their business to the group.\n\n\n\nNo charge for members to attend\, but RSVP's are requested to accommodate for food and beverages.
X-ALT-DESC;FMTTYPE=text/html:This NEW event will feature guest speakers discussing issues that you want to learn more about. Current news\, marketing\, business management\, social media\, and much more.<br />\n<br />\nWednesday\, March 9<br />\n7:30 to 9 am<br />\nLocation: Iowa Heart Center &ndash\; 5880 University Avenue\, West Des Moines\, IA 50266 (First Floor Auditorium)<br />\n<br />\nSpeaker: Dr. Eric Martin\, Cardiologist<br />\n<br />\nTopic: Life&rsquo\;s Simple Seven<br />\n<br />\n7:30 to 8:00 am &ndash\; Enjoy a light breakfast\, mingle and network with other chamber members<br />\n<br />\n8:00 to 8:30 am &ndash\; Presentation<br />\n<br />\n8:30 to 9:00 am &ndash\; Attendees form a circle to introduce themselves and provide a 30-second commercial on their business to the group.<br />\n<br />\nNo charge for members to attend\, but RSVP&rsquo\;s are requested to accommodate for food and beverages.
LOCATION:Iowa Heart Center
UID:e.2646.3
SEQUENCE:3
DTSTAMP:20260425T163717Z
URL:https://business.clivechamber.org/events/details/clive-chamber-business-over-breakfast-03-10-2016-3
END:VEVENT

END:VCALENDAR
