BEGIN:VCALENDAR
VERSION:2.0
PRODID:-//ChamberMaster//Event Calendar 2.0//EN
METHOD:PUBLISH
X-PUBLISHED-TTL:P3D
REFRESH-INTERVAL:P3D
CALSCALE:GREGORIAN
BEGIN:VEVENT
DTSTART;VALUE=DATE:20160226
DTEND;VALUE=DATE:20160227
TRANSP:TRANSPARENT
X-MICROSOFT-CDO-ALLDAYEVENT:TRUE
SUMMARY:Clive Chamber - Chamber 101
DESCRIPTION:Chamber 101   How to use your Chamber Membership\n\n\n\nJoin us the morning of February 26 at 7:30 a.m. for coffee\, light breakfast and conversation about how you can take advantage of your Clive Chamber of Commerce membership benefits. This coffee is open to new and existing members who want to get acquainted with all the Chamber has to offer. Held at Woodlands Creek Clubhouse in the Donna Room (12675 Woodlands Parkway\, Clive\, IA 50325).\n\n\n\nEvent is free to attend\, but registration is requested.
X-ALT-DESC;FMTTYPE=text/html:Chamber 101 &ndash\; How to use your Chamber Membership<br />\n<br />\nJoin us the morning of February 26 at 7:30 a.m. for coffee\, light breakfast and conversation about how you can take advantage of your Clive Chamber of Commerce membership benefits. This coffee is open to new and existing members who want to get acquainted with all the Chamber has to offer. Held at Woodlands Creek Clubhouse in the Donna Room (12675 Woodlands Parkway\, Clive\, IA 50325).<br />\n<br />\nEvent is free to attend\, but registration is requested.
LOCATION:Woodlands Creek
UID:e.2646.1
SEQUENCE:3
DTSTAMP:20260425T163549Z
URL:https://business.clivechamber.org/events/details/clive-chamber-chamber-101-02-26-2016-1
END:VEVENT

END:VCALENDAR
