BEGIN:VCALENDAR
VERSION:2.0
PRODID:-//ChamberMaster//Event Calendar 2.0//EN
METHOD:PUBLISH
X-PUBLISHED-TTL:P3D
REFRESH-INTERVAL:P3D
CALSCALE:GREGORIAN
BEGIN:VEVENT
DTSTART:20160623T113000Z
DTEND:20160623T123000Z
X-MICROSOFT-CDO-ALLDAYEVENT:FALSE
SUMMARY:Clive Chamber - Chamber 101: Greater Des Moines Partnership Benefits
DESCRIPTION:Join us the morning of June 23 at 7:30 a.m. for coffee\, light breakfast and conversation about how you can take advantage of your Greater Des Moines Partnership membership benefits.\n\nWhen you joined the Clive Chamber\, you received a complimentary membership into the Greater Des Moines Partnership. The Greater Des Moines Partnership is the economic and community development organization serving Central Iowa\, united to drive economic growth with one voice\, one mission\, and as one region. Together with 21 Affiliate Chambers of Commerce and 5\,700 business members\, the Partnership grows opportunity\, creates jobs\, and promotes the best place to build a business\, a career\, and a future.\n\nDuring this event we'll have Senior Vice President of Regional Business Development Meg Schneider on hand to discuss a wide range of tools designed to help your business and workforce grow. Topics will include:\n\n\n	Regional marketing tools such as the online and published Regional Business Directory\n	Regional workforce recruitment assistance including an online job/resume database\n	Business resources like Look Local First and online business tools\n	Regional advocacy in public policy at the local\, state and national levels\n	Simplified administration of regional work to eliminate program duplication/competition\n	Regional activities raising our community quality of life and national economic standing\n\n\nThis coffee is open to new and existing members who want to get acquainted with all the Chamber has to offer. Held at Woodlands Creek Clubhouse in the Donna Room (12675 Woodlands Parkway\, Clive\, IA 50325).\n\nEvent is free to attend\, but registration is requested.
X-ALT-DESC;FMTTYPE=text/html:<p style="box-sizing: border-box\; font-family: museo-sans\, sans-serif\; margin: 0px 0px 14px\; font-size: 1.1em\; line-height: 1.8em\; color: rgb(51\, 51\, 51)\; background-color: rgb(255\, 255\, 255)\;">Join us the morning of June 23&nbsp\;at 7:30 a.m. for coffee\, light breakfast and conversation about how you can take advantage of your Greater Des Moines Partnership&nbsp\;membership benefits.</p>\n\n<p style="box-sizing: border-box\; font-family: museo-sans\, sans-serif\; margin: 0px 0px 14px\; font-size: 1.1em\; line-height: 1.8em\; color: rgb(51\, 51\, 51)\; background-color: rgb(255\, 255\, 255)\;">When you joined the Clive&nbsp\;Chamber\, you received a complimentary membership into the Greater Des Moines Partnership. The Greater Des Moines Partnership is the economic and community development organization serving Central Iowa\, united to drive economic growth with one voice\, one mission\, and as one region. Together with 21 Affiliate Chambers of Commerce and 5\,700 business members\, the Partnership grows opportunity\, creates jobs\, and promotes the best place to build a business\, a career\, and a future.</p>\n\n<p style="box-sizing: border-box\; font-family: museo-sans\, sans-serif\; margin: 0px 0px 14px\; font-size: 1.1em\; line-height: 1.8em\; color: rgb(51\, 51\, 51)\; background-color: rgb(255\, 255\, 255)\;">During this event&nbsp\;we&rsquo\;ll have Senior Vice President of Regional Business Development Meg Schneider on hand to discuss a wide range of tools designed to help your business and workforce grow. Topics will include:</p>\n\n<ul style="box-sizing: border-box\; font-family: museo-sans\, sans-serif\; margin-top: 0px\; margin-bottom: 14px\; padding-left: 40px\; color: rgb(51\, 51\, 51)\; font-size: 14px\; line-height: 20px\; background-color: rgb(255\, 255\, 255)\;">\n	<li style="box-sizing: border-box\; margin-bottom: 14px\; font-size: 1.1em\; line-height: 1.8em\;">Regional marketing tools such as the online and published Regional Business Directory</li>\n	<li style="box-sizing: border-box\; margin-bottom: 14px\; font-size: 1.1em\; line-height: 1.8em\;">Regional workforce recruitment assistance including an online job/resume database</li>\n	<li style="box-sizing: border-box\; margin-bottom: 14px\; font-size: 1.1em\; line-height: 1.8em\;">Business resources like Look Local First and online business tools</li>\n	<li style="box-sizing: border-box\; margin-bottom: 14px\; font-size: 1.1em\; line-height: 1.8em\;">Regional advocacy in public policy at the local\, state and national levels</li>\n	<li style="box-sizing: border-box\; margin-bottom: 14px\; font-size: 1.1em\; line-height: 1.8em\;">Simplified administration of regional work to eliminate program duplication/competition</li>\n	<li style="box-sizing: border-box\; margin-bottom: 14px\; font-size: 1.1em\; line-height: 1.8em\;">Regional activities raising our community quality of life and national economic standing</li>\n</ul>\n\n<p style="box-sizing: border-box\; font-family: museo-sans\, sans-serif\; margin: 0px 0px 14px\; font-size: 1.1em\; line-height: 1.8em\; color: rgb(51\, 51\, 51)\; background-color: rgb(255\, 255\, 255)\;">This coffee is open to new and existing members who want to get acquainted with all the Chamber has to offer. Held at Woodlands Creek Clubhouse in the Donna Room (12675 Woodlands Parkway\, Clive\, IA 50325).</p>\n\n<p style="box-sizing: border-box\; font-family: museo-sans\, sans-serif\; margin: 0px 0px 14px\; font-size: 1.1em\; line-height: 1.8em\; color: rgb(51\, 51\, 51)\; background-color: rgb(255\, 255\, 255)\;">Event is free to attend\, but registration is requested.</p>\n
LOCATION:Woodlands Creek Clubhouse 12675 Woodlands Parkway\, Clive\, IA 50325
UID:e.2646.13
SEQUENCE:3
DTSTAMP:20260425T113647Z
URL:https://business.clivechamber.org/events/details/clive-chamber-chamber-101-greater-des-moines-partnership-benefits-06-23-2016-13
END:VEVENT

END:VCALENDAR
