BEGIN:VCALENDAR
VERSION:2.0
PRODID:-//ChamberMaster//Event Calendar 2.0//EN
METHOD:PUBLISH
X-PUBLISHED-TTL:P3D
REFRESH-INTERVAL:P3D
CALSCALE:GREGORIAN
BEGIN:VEVENT
DTSTART;VALUE=DATE:20160303
DTEND;VALUE=DATE:20160304
TRANSP:TRANSPARENT
X-MICROSOFT-CDO-ALLDAYEVENT:TRUE
SUMMARY:Clive Chamber - March Membership Luncheon
DESCRIPTION:At the Clive Chamber Membership Luncheons\, members come together to network\, enjoy lunch and listen to a speaker.\n\n\n\nThursday\, March 3\, 2016\n\n11:30 am to 1:00 pm\n\nLocation: Courtyard   1520 NW 114th Street\, Clive\n\n\n\nSpeaker: Alan Feirer\, Group Dynamic\n\n\n\nTopic: Strategic Thinking Shortcuts\n\n\n\nWe can all think of situations when we spent too much time for too few results on strategic analysis\, goal-setting\, and action-planning. What if we could spend a fraction of that time on processes that generate measurable short-term results? We can.\n\n\n\nThis program provides proven\, quick\, and sticky ideas to balance the needs of strategic analysis and planning with the limited number of hours in the day.\n\n\n\nLearn how to use simple tools that keep people engaged. Tools that everyone can adopt\, and find ways to implement. In the process\, we can see change sooner\, experience the satisfaction that our time was well-spent\, and know we're on the right track.\n\n\n\ngroup dynamic\n\n\n\n$20.00 per person admission\n\n\n\nPre-payment is highly encouraged and appreciated. Reservations made less than 48 hours prior to event will be automatically charged an additional $5. Reservations not kept will be billed.
X-ALT-DESC;FMTTYPE=text/html:At the Clive Chamber Membership Luncheons\, members come together to network\, enjoy lunch and listen to a speaker.<br />\n<br />\nThursday\, March 3\, 2016<br />\n11:30 am to 1:00 pm<br />\nLocation: Courtyard &ndash\; 1520 NW 114th Street\, Clive<br />\n<br />\nSpeaker: Alan Feirer\, Group Dynamic<br />\n<br />\nTopic: Strategic Thinking Shortcuts<br />\n<br />\nWe can all think of situations when we spent too much time for too few results on strategic analysis\, goal-setting\, and action-planning. What if we could spend a fraction of that time on processes that generate measurable short-term results? We can.<br />\n<br />\nThis program provides proven\, quick\, and sticky ideas to balance the needs of strategic analysis and planning with the limited number of hours in the day.<br />\n<br />\nLearn how to use simple tools that keep people engaged. Tools that everyone can adopt\, and find ways to implement. In the process\, we can see change sooner\, experience the satisfaction that our time was well-spent\, and know we&rsquo\;re on the right track.<br />\n<br />\ngroup dynamic<br />\n<br />\n$20.00 per person admission<br />\n<br />\nPre-payment is highly encouraged and appreciated. Reservations made less than 48 hours prior to event will be automatically charged an additional $5. Reservations not kept will be billed.
LOCATION:Courtyard
UID:e.2646.2
SEQUENCE:3
DTSTAMP:20260425T150936Z
URL:https://business.clivechamber.org/events/details/clive-chamber-march-membership-luncheon-03-03-2016-2
END:VEVENT

END:VCALENDAR
