BEGIN:VCALENDAR
VERSION:2.0
PRODID:-//ChamberMaster//Event Calendar 2.0//EN
METHOD:PUBLISH
X-PUBLISHED-TTL:P3D
REFRESH-INTERVAL:P3D
CALSCALE:GREGORIAN
BEGIN:VEVENT
DTSTART:20160617T180000Z
DTEND:20160617T190000Z
X-MICROSOFT-CDO-ALLDAYEVENT:FALSE
SUMMARY:Clive Chamber - Rapids Reproductions Ribbon Cutting
DESCRIPTION:Join us to celebrate the opening of Rapids Reproductions Clive location. Open House 1 to 2 pm. Ribbon Cutting Ceremony at 1:15 pm.\n\nLight Refreshments will be served.\n\nwww.rapidsrepro.com
X-ALT-DESC;FMTTYPE=text/html:<p style="box-sizing: border-box\; font-family: museo-sans\, sans-serif\; margin: 0px 0px 14px\; font-size: 1.1em\; line-height: 1.8em\; color: rgb(51\, 51\, 51)\; background-color: rgb(255\, 255\, 255)\;">Join us to celebrate the opening of Rapids Reproductions Clive location. Open House 1 to 2 pm. Ribbon Cutting Ceremony at 1:15 pm.</p>\n\n<p style="box-sizing: border-box\; font-family: museo-sans\, sans-serif\; margin: 0px 0px 14px\; font-size: 1.1em\; line-height: 1.8em\; color: rgb(51\, 51\, 51)\; background-color: rgb(255\, 255\, 255)\;">Light Refreshments will be served.</p>\n\n<p style="box-sizing: border-box\; font-family: museo-sans\, sans-serif\; margin: 0px 0px 14px\; font-size: 1.1em\; line-height: 1.8em\; color: rgb(51\, 51\, 51)\; background-color: rgb(255\, 255\, 255)\;"><a href="http://www.rapidsrepro.com/" style="box-sizing: border-box\; color: rgb(65\, 180\, 228)\; text-decoration: none\; background-color: transparent\;">www.rapidsrepro.com</a></p>\n
LOCATION:Rapids Reproductions\,Inc. 1980 NW 94th Street\, Suite G\, Clive\, IA 50325
UID:e.2646.12
SEQUENCE:3
DTSTAMP:20260425T113824Z
URL:https://business.clivechamber.org/events/details/clive-chamber-rapids-reproductions-ribbon-cutting-06-17-2016-12
END:VEVENT

END:VCALENDAR
