BEGIN:VCALENDAR
VERSION:2.0
PRODID:-//ChamberMaster//Event Calendar 2.0//EN
METHOD:PUBLISH
X-PUBLISHED-TTL:P3D
REFRESH-INTERVAL:P3D
CALSCALE:GREGORIAN
BEGIN:VEVENT
DTSTART:20160901T153000Z
DTEND:20160901T170000Z
X-MICROSOFT-CDO-ALLDAYEVENT:FALSE
SUMMARY:Clive Chamber September Membership Luncheon
DESCRIPTION:At the Clive Chamber Membership Luncheons\, members come together to network\, enjoy lunch and listen to a speaker.\n\nThursday\, September 1\, 2016\n\n11:30 am to 1:00 pm\n\nLocation: Courtyard Clive\, 1520 NW 114th Street\, Clive\, IA 50325\n\nGold Sponsor: Primary Source\n\nSpeaker: Kristine Reeves\, Director of Marketing at the Greater Des Moines Partnership\n\nTopic: Instagram for Business\n\nPanelists:\n\nKasey Vogel\, Business Development Specialist at Community Choice Credit Union\n\nLindsey LaMair\, Digital Marketing Director at Webspec Design\n\nMenu:\n\nPasta Bar includes Spaghetti & Meatballs\, Chicken Alfredo & Flatbreads   Tomato Mozzarella & All Meat\, Garlic Bread\, Garden Salad. Brownies for Dessert\n\nPlease contact the chamber at 515-222-5295 or info@clivechamber.org if you have a special dietary needs.\n\nRSVP is required to reserve your seat.\n\n$20.00 per person admission\n\nPre-payment is highly encouraged and appreciated. Reservations made less than 48 hours prior to event will be automatically charged an additional $5. Reservations not kept will be billed.
X-ALT-DESC;FMTTYPE=text/html:<p style="box-sizing: border-box\; font-family: museo-sans\, sans-serif\; margin: 0px 0px 14px\; font-size: 1.1em\; line-height: 1.8em\; color: rgb(51\, 51\, 51)\; background-color: rgb(255\, 255\, 255)\;">At the Clive Chamber Membership Luncheons\, members come together to network\, enjoy lunch and listen to a speaker.</p>\n\n<p style="box-sizing: border-box\; font-family: museo-sans\, sans-serif\; margin: 0px 0px 14px\; font-size: 1.1em\; line-height: 1.8em\; color: rgb(51\, 51\, 51)\; background-color: rgb(255\, 255\, 255)\;">Thursday\, September 1\, 2016<br style="box-sizing: border-box\;" />\n11:30 am to 1:00 pm<br style="box-sizing: border-box\;" />\nLocation: Courtyard Clive\, 1520 NW 114th Street\, Clive\, IA 50325</p>\n\n<p style="box-sizing: border-box\; font-family: museo-sans\, sans-serif\; margin: 0px 0px 14px\; font-size: 1.1em\; line-height: 1.8em\; color: rgb(51\, 51\, 51)\; background-color: rgb(255\, 255\, 255)\;">Gold Sponsor: Primary Source</p>\n\n<p style="box-sizing: border-box\; font-family: museo-sans\, sans-serif\; margin: 0px 0px 14px\; font-size: 1.1em\; line-height: 1.8em\; color: rgb(51\, 51\, 51)\; background-color: rgb(255\, 255\, 255)\;">Speaker: Kristine Reeves\, Director of Marketing at the Greater Des Moines Partnership</p>\n\n<p style="box-sizing: border-box\; font-family: museo-sans\, sans-serif\; margin: 0px 0px 14px\; font-size: 1.1em\; line-height: 1.8em\; color: rgb(51\, 51\, 51)\; background-color: rgb(255\, 255\, 255)\;">Topic: Instagram for Business</p>\n\n<p style="box-sizing: border-box\; font-family: museo-sans\, sans-serif\; margin: 0px 0px 14px\; font-size: 1.1em\; line-height: 1.8em\; color: rgb(51\, 51\, 51)\; background-color: rgb(255\, 255\, 255)\;">Panelists:<br style="box-sizing: border-box\;" />\nKasey Vogel\, Business Development Specialist at Community Choice Credit Union<br style="box-sizing: border-box\;" />\nLindsey LaMair\, Digital Marketing Director at Webspec Design</p>\n\n<p style="box-sizing: border-box\; font-family: museo-sans\, sans-serif\; margin: 0px 0px 14px\; font-size: 1.1em\; line-height: 1.8em\; color: rgb(51\, 51\, 51)\; background-color: rgb(255\, 255\, 255)\;">Menu:<br style="box-sizing: border-box\;" />\nPasta Bar includes Spaghetti &amp\; Meatballs\, Chicken Alfredo &amp\; Flatbreads &ndash\; Tomato Mozzarella &amp\; All Meat\,&nbsp\;Garlic Bread\, Garden Salad. Brownies for Dessert</p>\n\n<p style="box-sizing: border-box\; font-family: museo-sans\, sans-serif\; margin: 0px 0px 14px\; font-size: 1.1em\; line-height: 1.8em\; color: rgb(51\, 51\, 51)\; background-color: rgb(255\, 255\, 255)\;">Please contact the chamber at 515-222-5295 or&nbsp\;<a href="mailto: info@clivechamber.org" style="box-sizing: border-box\; color: rgb(65\, 180\, 228)\; text-decoration: none\; background-color: transparent\;" target="_blank">info@clivechamber.org</a>&nbsp\;if you have a special dietary needs.</p>\n\n<p style="box-sizing: border-box\; font-family: museo-sans\, sans-serif\; margin: 0px 0px 14px\; font-size: 1.1em\; line-height: 1.8em\; color: rgb(51\, 51\, 51)\; background-color: rgb(255\, 255\, 255)\;"><strong style="box-sizing: border-box\;">RSVP is required to reserve your seat.</strong></p>\n\n<p style="box-sizing: border-box\; font-family: museo-sans\, sans-serif\; margin: 0px 0px 14px\; font-size: 1.1em\; line-height: 1.8em\; color: rgb(51\, 51\, 51)\; background-color: rgb(255\, 255\, 255)\;">$20.00 per person admission</p>\n\n<p style="box-sizing: border-box\; font-family: museo-sans\, sans-serif\; margin: 0px 0px 14px\; font-size: 1.1em\; line-height: 1.8em\; color: rgb(51\, 51\, 51)\; background-color: rgb(255\, 255\, 255)\;">Pre-payment is highly encouraged and appreciated. Reservations made less than 48 hours prior to event will be automatically charged an additional $5. Reservations not kept will be billed.</p>\n
LOCATION:Courtyard Clive 1520 NW 114th Street Clive\, IA 50325
UID:e.2646.17
SEQUENCE:3
DTSTAMP:20260425T042552Z
URL:https://business.clivechamber.org/events/details/clive-chamber-september-membership-luncheon-09-01-2016-17
END:VEVENT

END:VCALENDAR
