BEGIN:VCALENDAR
VERSION:2.0
PRODID:-//ChamberMaster//Event Calendar 2.0//EN
METHOD:PUBLISH
X-PUBLISHED-TTL:P3D
REFRESH-INTERVAL:P3D
CALSCALE:GREGORIAN
BEGIN:VEVENT
DTSTART:20260514T130000Z
DTEND:20260514T150000Z
X-MICROSOFT-CDO-ALLDAYEVENT:FALSE
SUMMARY:CORE - Business Owners Group
DESCRIPTION:CORE (Clive Owners Roundtable Exchange) is a group of member business\n\nOwners/Presidents who meet monthly to discuss issues impacting their businesses. All member Business Owners/Presidents are invited to participate. Everyone must sign a confidentiality clause.\n\n\n\nEach meeting will include the opportunity for business owners to learn more about a relevant topic in business (theme each month)\, a roundtable discussion on a "Hot Topic"\, and time to share your recent business wins.
X-ALT-DESC;FMTTYPE=text/html:CORE (Clive Owners Roundtable Exchange) is a group of member business<br />\nOwners/Presidents who meet monthly to discuss issues impacting their businesses. All member Business Owners/Presidents are invited to participate. Everyone must sign a confidentiality clause.<br />\n<br />\nEach meeting will include the opportunity for business owners to learn more about a relevant topic in business (theme each month)\, a roundtable discussion on a &quot\;Hot Topic&quot\;\, and time to share your recent business wins.
LOCATION:Frontier Coworking
UID:e.2646.1260
SEQUENCE:3
DTSTAMP:20260421T042828Z
URL:https://business.clivechamber.org/events/details/core-business-owners-group-1260
END:VEVENT

END:VCALENDAR
