BEGIN:VCALENDAR
VERSION:2.0
PRODID:-//ChamberMaster//Event Calendar 2.0//EN
METHOD:PUBLISH
X-PUBLISHED-TTL:P3D
REFRESH-INTERVAL:P3D
CALSCALE:GREGORIAN
BEGIN:VEVENT
DTSTART:20180619T210000Z
DTEND:20180619T230000Z
X-MICROSOFT-CDO-ALLDAYEVENT:FALSE
SUMMARY:Country Inn & Suites Ribbon Cutting
DESCRIPTION:Join us to celebrate the recent renovations to Country Inn and Suites in Clive with a Ribbon Cutting. Ceremony at 4:30 pm.\n\nLight Refreshments will be served.
X-ALT-DESC;FMTTYPE=text/html:<p style="box-sizing: border-box\; font-family: museo-sans\, sans-serif\; margin: 0px 0px 14px\; font-size: 1.1em\; line-height: 1.8em\; color: rgb(51\, 51\, 51)\; background-color: rgb(255\, 255\, 255)\;">Join us to celebrate the recent renovations to Country Inn and Suites in Clive with a Ribbon Cutting. Ceremony at 4:30 pm.</p>\n\n<p style="box-sizing: border-box\; font-family: museo-sans\, sans-serif\; margin: 0px 0px 14px\; font-size: 1.1em\; line-height: 1.8em\; color: rgb(51\, 51\, 51)\; background-color: rgb(255\, 255\, 255)\;">Light Refreshments will be served.</p>\n
LOCATION:Country Inn & Suites by Radisson\, Des Moines West
UID:e.2646.356
SEQUENCE:3
DTSTAMP:20260423T094603Z
URL:https://business.clivechamber.org/events/details/country-inn-suites-ribbon-cutting-356
END:VEVENT

END:VCALENDAR
