BEGIN:VCALENDAR
VERSION:2.0
PRODID:-//ChamberMaster//Event Calendar 2.0//EN
METHOD:PUBLISH
X-PUBLISHED-TTL:P3D
REFRESH-INTERVAL:P3D
CALSCALE:GREGORIAN
BEGIN:VEVENT
DTSTART:20191004T213000Z
DTEND:20191005T003000Z
X-MICROSOFT-CDO-ALLDAYEVENT:FALSE
SUMMARY:Des Moines Learning Center Ribbon Cutting
DESCRIPTION:Join us to celebrate the Grand Opening of Des Moines Learning Center with a ribbon cutting. Open House 4:30 to 7:30 PM. Ribbon Cutting ceremony at 4:45 PM.\n\nAbout Des Moines Learning Center:\n\nDes Moines Learning Center is an independent tutoring center located off 128th and University in Clive\, IA. They pride themselves on providing a quality\, personalized approach to teaching your child. Whether it is ACT prep or homework help\, they focus on providing the students with the skills\, knowledge\, and confidence to excel in and out of the classroom. The goal is to grow your student as a person and an academic\, so they are equipped to overcome challenges they face well beyond their time at Des Moines Learning Center.
X-ALT-DESC;FMTTYPE=text/html:<span style="color:#000000\;"><span style="font-size:14px\;"><span style="font-family:arial\;">Join us to celebrate the Grand Opening of Des Moines Learning Center with a ribbon cutting. Open House 4:30 to 7:30 PM. Ribbon Cutting ceremony at 4:45 PM.</span></span></span>\n<hr style="border-right: 0px\; border-bottom: 0px\; border-left: 0px\; border-image: initial\; border-top-style: solid\; border-top-color: rgba(0\, 0\, 0\, 0.1)\; color: rgb(51\, 51\, 51)\; background-color: rgb(255\, 255\, 255)\; box-sizing: content-box\; font-family: museo-sans\, sans-serif\; height: 0px\; margin-top: 1rem\; margin-bottom: 1rem\; overflow: visible\; font-size: 15px\;" />\n<p style="color: rgb(51\, 51\, 51)\; background-color: rgb(255\, 255\, 255)\; box-sizing: border-box\; font-family: museo-sans\, sans-serif\; margin: 0px 0px 1rem\; font-size: 1.1em\; line-height: 1.8em\;"><span style="color:#000000\;"><span style="font-size:14px\;"><span style="font-family:arial\;">About Des Moines Learning Center:</span></span></span></p>\n\n<p style="color: rgb(51\, 51\, 51)\; background-color: rgb(255\, 255\, 255)\; box-sizing: border-box\; font-family: museo-sans\, sans-serif\; margin: 0px 0px 1rem\; font-size: 1.1em\; line-height: 1.8em\;"><span style="color:#000000\;"><span style="font-size:14px\;"><span style="font-family:arial\;">Des Moines Learning Center is an independent tutoring center located off 128th and University in Clive\, IA. They&nbsp\;pride themselves on providing&nbsp\;a quality\, personalized approach to teaching your child. Whether it is ACT prep&nbsp\;or homework help\, they&nbsp\;focus on providing the students with the skills\, knowledge\, and confidence to excel in and out of the classroom. The goal is to grow your student as a person and an academic\, so they are equipped to overcome challenges they face well beyond their time at Des Moines Learning Center.</span></span></span></p>\n
LOCATION:Des Moines Learning Center
UID:e.2646.418
SEQUENCE:3
DTSTAMP:20260420T035345Z
URL:https://business.clivechamber.org/events/details/des-moines-learning-center-ribbon-cutting-418
END:VEVENT

END:VCALENDAR
