BEGIN:VCALENDAR
VERSION:2.0
PRODID:-//ChamberMaster//Event Calendar 2.0//EN
METHOD:PUBLISH
X-PUBLISHED-TTL:P3D
REFRESH-INTERVAL:P3D
CALSCALE:GREGORIAN
BEGIN:VEVENT
DTSTART:20181204T180000Z
DTEND:20181205T180000Z
X-MICROSOFT-CDO-ALLDAYEVENT:FALSE
SUMMARY:Donate to Clive Lions Club Holiday Baskets
DESCRIPTION:The holiday season is fast approaching and the Clive Chamber of Commerce will be assisting the Clive Lions Club to provide holiday baskets to needy families in Clive. This year the goal is to provide for 80 families.\n\nSo\, how can you help? \n\n1. Donate items.  The Chamber has been asked to collect Vegetable Oil (Gallon Size) and Liquid Laundry Detergent (100 oz. or Greater). Our goal is to collect 80 of each of each item.  You can bring donations to upcoming chamber events or deliver to the Clive Chamber of Commerce\, 1900 NW 114th Street (Clive City Hall) before December 5.\n\n2. Don't have time to stop and pick up vegetable oil or laundry soap.  You can donate online.\n\n\n	Click the RSVP button on the right to donate for the purchase of Vegetable Oil and Liquid Laundry Detergent. Use the "Number of Guests" box to indicate how much you wish to donate. Vegetable Oil is approx. $7 per bottle and Liquid Laundry Detergent is approx. $15 per bottle.\n\n\nPlease help us reach our goal and make the holidays a bit brighter for some Clive families.\n\nQuestions? Please contact Kristy Schmidt\, Chamber Executive Director at 515-222-5295 or kschmidt@clivechamber.org.
X-ALT-DESC;FMTTYPE=text/html:<p style="box-sizing: border-box\; font-family: museo-sans\, sans-serif\; margin: 0px 0px 14px\; font-size: 1.1em\; line-height: 1.8em\; color: rgb(51\, 51\, 51)\; background-color: rgb(255\, 255\, 255)\;">The holiday season is fast approaching and the Clive Chamber of Commerce&nbsp\;will be&nbsp\;assisting&nbsp\;the Clive Lions Club to provide holiday baskets to&nbsp\;needy families in Clive. This year the goal is to provide for 80 families.</p>\n\n<p style="box-sizing: border-box\; font-family: museo-sans\, sans-serif\; margin: 0px 0px 14px\; font-size: 1.1em\; line-height: 1.8em\; color: rgb(51\, 51\, 51)\; background-color: rgb(255\, 255\, 255)\;"><span style="box-sizing: border-box\; color: rgb(0\, 128\, 0)\;"><span style="box-sizing: border-box\; font-weight: 700\;">So\, how can you help?&nbsp\;</span></span></p>\n\n<p style="box-sizing: border-box\; font-family: museo-sans\, sans-serif\; margin: 0px 0px 14px\; font-size: 1.1em\; line-height: 1.8em\; color: rgb(51\, 51\, 51)\; background-color: rgb(255\, 255\, 255)\;"><span style="box-sizing: border-box\; font-weight: 700\;">1</span>. Donate items. &nbsp\;The Chamber has been asked to collect&nbsp\;<span style="box-sizing: border-box\; font-weight: 700\;"><span style="box-sizing: border-box\; color: rgb(0\, 128\, 0)\;">Vegetable Oil (Gallon Size)</span>&nbsp\;</span>and&nbsp\;<span style="box-sizing: border-box\; font-weight: 700\;"><span style="box-sizing: border-box\; color: rgb(0\, 128\, 0)\;">Liquid Laundry Detergent (100 oz. or Greater)</span></span>. Our goal is to collect 80&nbsp\;of each of each item. &nbsp\;You can bring donations to upcoming chamber events or&nbsp\;deliver to the Clive Chamber of Commerce\, 1900 NW 114th Street (Clive City Hall)&nbsp\;<span style="box-sizing: border-box\; color: rgb(255\, 0\, 0)\;"><span style="box-sizing: border-box\; font-weight: 700\;">before December 5</span></span>.</p>\n\n<p style="box-sizing: border-box\; font-family: museo-sans\, sans-serif\; margin: 0px 0px 14px\; font-size: 1.1em\; line-height: 1.8em\; color: rgb(51\, 51\, 51)\; background-color: rgb(255\, 255\, 255)\;"><span style="box-sizing: border-box\; font-weight: 700\;">2.</span>&nbsp\;Don&rsquo\;t have time to stop and pick up vegetable oil or laundry soap.&nbsp\; You can donate online.</p>\n\n<ul style="box-sizing: border-box\; font-family: museo-sans\, sans-serif\; margin-top: 0px\; margin-bottom: 14px\; padding-left: 40px\; color: rgb(51\, 51\, 51)\; font-size: 14px\; background-color: rgb(255\, 255\, 255)\;">\n	<li style="box-sizing: border-box\; margin-bottom: 14px\; font-size: 1.1em\; line-height: 1.8em\;">Click the RSVP button on the right to donate for the purchase of&nbsp\;<span style="box-sizing: border-box\; color: rgb(0\, 128\, 0)\;"><span style="box-sizing: border-box\; font-weight: 700\;">Vegetable Oil&nbsp\;</span><span style="box-sizing: border-box\; color: rgb(0\, 0\, 0)\;">and</span><span style="box-sizing: border-box\; font-weight: 700\;">&nbsp\;Liquid Laundry Detergent</span></span>. Use the &ldquo\;Number of Guests&rdquo\; box to indicate how much you wish to donate. Vegetable Oil is approx. $7 per bottle and Liquid Laundry Detergent is approx. $15 per bottle.</li>\n</ul>\n\n<p style="box-sizing: border-box\; font-family: museo-sans\, sans-serif\; margin: 0px 0px 14px\; font-size: 1.1em\; line-height: 1.8em\; color: rgb(51\, 51\, 51)\; background-color: rgb(255\, 255\, 255)\;"><span style="box-sizing: border-box\; font-weight: 700\;"><em style="box-sizing: border-box\;">Please help us reach our goal and make the holidays a bit brighter for some Clive families.</em></span></p>\n\n<p style="box-sizing: border-box\; font-family: museo-sans\, sans-serif\; margin: 0px 0px 14px\; font-size: 1.1em\; line-height: 1.8em\; color: rgb(51\, 51\, 51)\; background-color: rgb(255\, 255\, 255)\;">Questions? Please contact Kristy Schmidt\, Chamber Executive Director at 515-222-5295 or&nbsp\;<a href="mailto:kschmidt@clivechamber.org" style="box-sizing: border-box\; background-color: transparent\; color: rgb(65\, 180\, 228)\; text-decoration-line: none\;">kschmidt@clivechamber.org.</a></p>\n
LOCATION:Clive Chamber of Commerce
UID:e.2646.322
SEQUENCE:3
DTSTAMP:20260422T080726Z
URL:https://business.clivechamber.org/events/details/donate-to-clive-lions-club-holiday-baskets-322
END:VEVENT

END:VCALENDAR
