BEGIN:VCALENDAR
VERSION:2.0
PRODID:-//ChamberMaster//Event Calendar 2.0//EN
METHOD:PUBLISH
X-PUBLISHED-TTL:P3D
REFRESH-INTERVAL:P3D
CALSCALE:GREGORIAN
BEGIN:VEVENT
DTSTART;VALUE=DATE:20190719
DTEND;VALUE=DATE:20190720
TRANSP:TRANSPARENT
X-MICROSOFT-CDO-ALLDAYEVENT:TRUE
SUMMARY:Drive Thru Baby Shower
DESCRIPTION:We're having a Drive Thru Baby Shower soon! You can bless some Central Iowa women and get a chance to win tickets.\n		\n		\n			Life 107.1 is teaming up with Agape Pregnancy Center\, Pathways of Pella Pregnancy Care Center\, and Bethany Christian Services for a Drive Thru Baby Shower on Thursday\, July 25 from 11 am - 1 pm. When you bring your donations to one of our several drop-off locations\, we'll also enter your name into a drawing for two tickets to see Zach Williams and For King and Country at the State Fair!
X-ALT-DESC;FMTTYPE=text/html:<table align="center" border="0" cellpadding="0" cellspacing="0" style="background:white\; width:650px">\n	<tbody>\n		<tr>\n			<td><strong><span style="color:#1E1E1E"><span style="font-family:arial\,sans-serif">We&#39\;re having a Drive Thru Baby Shower soon! You can bless some Central Iowa women and get a chance to win tickets.</span></span></strong></td>\n		</tr>\n		<tr>\n			<td><span style="color:#1E1E1E"><span style="font-family:arial\,sans-serif"><span style="font-size:10.5pt">Life 107.1 is teaming up with Agape Pregnancy Center\, Pathways of Pella Pregnancy Care Center\, and&nbsp\;Bethany Christian Services for a Drive Thru Baby Shower on Thursday\, July 25 from 11 am - 1 pm. When you bring your donations to one of our several drop-off locations\, we&rsquo\;ll also enter your name into a drawing for two tickets to see Zach Williams and For King and Country at the State Fair!</span></span></span></td>\n		</tr>\n	</tbody>\n</table>\n\n<div>&nbsp\;</div>\n
LOCATION:Locations: Prairie Ridge Church\, 825 NW 36th St\, Ankeny\, IA Valley Community Center\, 4444 Fuller Rd\, West Des Moines\, IA First Reformed Church\, 605 Broadway St\, Pella\, IA
UID:e.2646.396
SEQUENCE:3
DTSTAMP:20260421T005921Z
URL:https://business.clivechamber.org/events/details/drive-thru-baby-shower-07-19-2019-396
END:VEVENT

END:VCALENDAR
