BEGIN:VCALENDAR
VERSION:2.0
PRODID:-//ChamberMaster//Event Calendar 2.0//EN
METHOD:PUBLISH
X-PUBLISHED-TTL:P3D
REFRESH-INTERVAL:P3D
CALSCALE:GREGORIAN
BEGIN:VEVENT
DTSTART:20290109T213000Z
DTEND:20290109T220000Z
X-MICROSOFT-CDO-ALLDAYEVENT:FALSE
SUMMARY:Executive Board Meeting
DESCRIPTION:
X-ALT-DESC;FMTTYPE=text/html:
LOCATION:Clive City Hall - North West Conference Room
UID:e.2646.138
SEQUENCE:3
DTSTAMP:20260425T035858Z
URL:https://business.clivechamber.org/events/details/executive-board-meeting-01-09-2029-138
END:VEVENT

END:VCALENDAR
