BEGIN:VCALENDAR
VERSION:2.0
PRODID:-//ChamberMaster//Event Calendar 2.0//EN
METHOD:PUBLISH
X-PUBLISHED-TTL:P3D
REFRESH-INTERVAL:P3D
CALSCALE:GREGORIAN
BEGIN:VEVENT
DTSTART:20220519T211500Z
DTEND:20220519T221500Z
X-MICROSOFT-CDO-ALLDAYEVENT:FALSE
SUMMARY:Flooring America 20 Year Anniversary Celebration
DESCRIPTION:Join us to celebrate Flooring America's 20th Year Anniversary with a ribbon cutting.  Ribbon Cutting ceremony at 4:30 pm\, followed by an open house.\n\n\n\nTo celebrate their 20th Anniversary Flooring America is...\n\n	Giving away up to $20\,000 worth of flooring to customers\n	Appreciation of staff with nice gift and quarterly celebrations\n	Giving away cash prizes on social media to customers\n	Volunteering as a group for several events\n	Anniversary ribbon cutting!\n	Giving away monthly prizes to past customers as "Thank You"!\n	Created a referral program\, sending gift cards to thank customers for referrals
X-ALT-DESC;FMTTYPE=text/html:Join us to celebrate Flooring America&#39\;s 20th Year Anniversary with a ribbon cutting.&nbsp\; Ribbon Cutting ceremony at 4:30 pm\, followed by an open house.<br />\n<br />\nTo celebrate their 20th Anniversary Flooring America is...\n<ul>\n	<li>Giving away up to $20\,000 worth of flooring to customers</li>\n	<li>Appreciation of staff with nice gift and quarterly celebrations</li>\n	<li>Giving away cash prizes on social media to customers</li>\n	<li>Volunteering as a group for several events</li>\n	<li>Anniversary ribbon cutting!</li>\n	<li>Giving away monthly prizes to past customers as &quot\;Thank You&quot\;!</li>\n	<li>Created a referral program\, sending gift cards to thank customers for referrals</li>\n</ul>\n
LOCATION:Flooring America
UID:e.2646.737
SEQUENCE:3
DTSTAMP:20260420T120239Z
URL:https://business.clivechamber.org/events/details/flooring-america-20-year-anniversary-celebration-737
END:VEVENT

END:VCALENDAR
