BEGIN:VCALENDAR
VERSION:2.0
PRODID:-//ChamberMaster//Event Calendar 2.0//EN
METHOD:PUBLISH
X-PUBLISHED-TTL:P3D
REFRESH-INTERVAL:P3D
CALSCALE:GREGORIAN
BEGIN:VEVENT
DTSTART:20190510T170000Z
DTEND:20190510T170000Z
X-MICROSOFT-CDO-ALLDAYEVENT:FALSE
SUMMARY:Food Truck Friday - 5/10/19
DESCRIPTION:Food Truck Friday   Sponsored by Mercy Rehabilitation Hospital\n \n\n\nFun for the whole family!  Come unwind at Food Truck Friday!\n\nLive entertainment and food presented by Clive Parks and Recreation and the Clive Chamber of Commerce.  Jump on the Greenbelt Trail and make your way to Campbell Park to enjoy music\, food\, and fun.  Bring the whole family- the park has three playgrounds and a green space.  Proceeds from the beverage sales at the concession stand will go to Clive Community Services.  Bring a blanket or a lawn chair.\n\nEntertainment: Damon Dotson\n\nFood Trucks: Smokehouse BBQ\, Big Red Food Truck\, Roadside Taco's\, Naughty & Nice
X-ALT-DESC;FMTTYPE=text/html:<span style="color: rgb(51\, 51\, 51)\; font-family: museo-sans\, sans-serif\; font-size: 15.4px\; background-color: rgb(255\, 255\, 255)\;">Food Truck Friday &ndash\; Sponsored by&nbsp\;</span><a href="http://www.mercydesmoines.org/Mercy-Neuroscience-Center/Physical-Medicine-Rehabilitation" style="box-sizing: border-box\; font-family: museo-sans\, sans-serif\; background-color: rgb(255\, 255\, 255)\; color: rgb(65\, 180\, 228)\; text-decoration-line: none\; font-size: 15.4px\;">Mercy Rehabilitation Hospital</a>\n<div>&nbsp\;</div>\n\n<div>\n<p style="box-sizing: border-box\; font-family: museo-sans\, sans-serif\; margin: 0px 0px 14px\; font-size: 1.1em\; line-height: 1.8em\; color: rgb(51\, 51\, 51)\; background-color: rgb(255\, 255\, 255)\;">Fun for the whole family!&nbsp\; Come unwind at Food Truck Friday!</p>\n\n<p style="box-sizing: border-box\; font-family: museo-sans\, sans-serif\; margin: 0px 0px 14px\; font-size: 1.1em\; line-height: 1.8em\; color: rgb(51\, 51\, 51)\; background-color: rgb(255\, 255\, 255)\;">Live entertainment and food presented by Clive Parks and Recreation and the Clive Chamber of Commerce.&nbsp\; Jump on the Greenbelt Trail and make your way to Campbell Park to enjoy music\, food\, and fun.&nbsp\; Bring the whole family- the park has three playgrounds and a green space.&nbsp\; Proceeds from the beverage sales at the concession stand will go to Clive Community Services.&nbsp\; Bring a blanket or a lawn chair.</p>\n\n<p style="box-sizing: border-box\; font-family: museo-sans\, sans-serif\; margin: 0px 0px 14px\; font-size: 1.1em\; line-height: 1.8em\; color: rgb(51\, 51\, 51)\; background-color: rgb(255\, 255\, 255)\;">Entertainment: Damon Dotson</p>\n\n<p style="box-sizing: border-box\; font-family: museo-sans\, sans-serif\; margin: 0px 0px 14px\; font-size: 1.1em\; line-height: 1.8em\; color: rgb(51\, 51\, 51)\; background-color: rgb(255\, 255\, 255)\;">Food Trucks: Smokehouse BBQ\, Big Red Food Truck\, Roadside Taco&rsquo\;s\, Naughty &amp\; Nice</p>\n</div>\n
LOCATION:Campbell Recreation Area
UID:e.2646.316
SEQUENCE:3
DTSTAMP:20260421T055733Z
URL:https://business.clivechamber.org/events/details/food-truck-friday-5-10-19-316
END:VEVENT

END:VCALENDAR
