BEGIN:VCALENDAR
VERSION:2.0
PRODID:-//ChamberMaster//Event Calendar 2.0//EN
METHOD:PUBLISH
X-PUBLISHED-TTL:P3D
REFRESH-INTERVAL:P3D
CALSCALE:GREGORIAN
BEGIN:VEVENT
DTSTART:20190517T223000Z
DTEND:20190518T010000Z
X-MICROSOFT-CDO-ALLDAYEVENT:FALSE
SUMMARY:Food Truck Friday - 5/17/19
DESCRIPTION:Food Truck Friday   Sponsored by Lincoln Savings Bank and ServiceMaster by Rice\n\n\n\nFun for the whole family!  Come unwind at Food Truck Friday!\n\nLive entertainment and food presented by Clive Parks and Recreation and the Clive Chamber of Commerce.  Jump on the Greenbelt Trail and make your way to Campbell Park to enjoy music\, food\, and fun.  Bring the whole family- the park has three playgrounds and a green space.  Proceeds from the beverage sales at the concession stand will go to Clive Community Services.  Bring a blanket or a lawn chair.\n\nEntertainment: Dick Danger Band\n\nFood Trucks: Machine Shed Food Truck\, Curbin' Cuisine\, Grump J's Gourmet Sliders\, El Buen Mexicano\, The Outside Scoop
X-ALT-DESC;FMTTYPE=text/html:<p style="box-sizing: border-box\; font-family: museo-sans\, sans-serif\; margin: 0px 0px 14px\; font-size: 1.1em\; line-height: 1.8em\; color: rgb(51\, 51\, 51)\; background-color: rgb(255\, 255\, 255)\;"><span style="color: rgb(51\, 51\, 51)\; font-family: museo-sans\, sans-serif\; font-size: 15.4px\; background-color: rgb(255\, 255\, 255)\;">Food Truck Friday &ndash\; Sponsored by&nbsp\;</span><a href="https://www.mylsb.com/" style="box-sizing: border-box\; font-family: museo-sans\, sans-serif\; background-color: rgb(255\, 255\, 255)\; color: rgb(65\, 180\, 228)\; text-decoration-line: none\; font-size: 15.4px\;">Lincoln Savings Bank</a><span style="color: rgb(51\, 51\, 51)\; font-family: museo-sans\, sans-serif\; font-size: 15.4px\; background-color: rgb(255\, 255\, 255)\;">&nbsp\;and&nbsp\;</span><a href="https://servicemasterbyrice.com/" style="box-sizing: border-box\; font-family: museo-sans\, sans-serif\; background-color: rgb(255\, 255\, 255)\; color: rgb(65\, 180\, 228)\; text-decoration-line: none\; font-size: 15.4px\;">ServiceMaster by Rice</a><br />\n<br />\nFun for the whole family!&nbsp\; Come unwind at Food Truck Friday!</p>\n\n<p style="box-sizing: border-box\; font-family: museo-sans\, sans-serif\; margin: 0px 0px 14px\; font-size: 1.1em\; line-height: 1.8em\; color: rgb(51\, 51\, 51)\; background-color: rgb(255\, 255\, 255)\;">Live entertainment and food presented by Clive Parks and Recreation and the Clive Chamber of Commerce.&nbsp\; Jump on the Greenbelt Trail and make your way to Campbell Park to enjoy music\, food\, and fun.&nbsp\; Bring the whole family- the park has three playgrounds and a green space.&nbsp\; Proceeds from the beverage sales at the concession stand will go to Clive Community Services.&nbsp\; Bring a blanket or a lawn chair.</p>\n\n<p style="box-sizing: border-box\; font-family: museo-sans\, sans-serif\; margin: 0px 0px 14px\; font-size: 1.1em\; line-height: 1.8em\; color: rgb(51\, 51\, 51)\; background-color: rgb(255\, 255\, 255)\;">Entertainment: Dick Danger Band</p>\n\n<p style="box-sizing: border-box\; font-family: museo-sans\, sans-serif\; margin: 0px 0px 14px\; font-size: 1.1em\; line-height: 1.8em\; color: rgb(51\, 51\, 51)\; background-color: rgb(255\, 255\, 255)\;">Food Trucks: Machine Shed Food Truck\, Curbin&rsquo\; Cuisine\, Grump J&rsquo\;s Gourmet Sliders\, El Buen Mexicano\, The Outside Scoop</p>\n
LOCATION:Campbell Recreation Area
UID:e.2646.318
SEQUENCE:3
DTSTAMP:20260421T055448Z
URL:https://business.clivechamber.org/events/details/food-truck-friday-5-17-19-318
END:VEVENT

END:VCALENDAR
