BEGIN:VCALENDAR
VERSION:2.0
PRODID:-//ChamberMaster//Event Calendar 2.0//EN
METHOD:PUBLISH
X-PUBLISHED-TTL:P3D
REFRESH-INTERVAL:P3D
CALSCALE:GREGORIAN
BEGIN:VEVENT
DTSTART:20190524T223000Z
DTEND:20190525T010000Z
X-MICROSOFT-CDO-ALLDAYEVENT:FALSE
SUMMARY:Food Truck Friday - 5/24/19
DESCRIPTION:Food Truck Friday   Sponsored by Westside Auto Pros\n\n\n\nFun for the whole family!  Come unwind at Food Truck Friday!\n\nLive entertainment and food presented by Clive Parks and Recreation and the Clive Chamber of Commerce.  Jump on the Greenbelt Trail and make your way to Campbell Park to enjoy music\, food\, and fun.  Bring the whole family- the park has three playgrounds and a green space.  Proceeds from the beverage sales at the concession stand will go to Clive Community Services.  Bring a blanket or a lawn chair.\n\nEntertainment: Brian Congdon\n\nFood Trucks: Smokehouse BBQ\, Naughty & Nice Food Truck\, Sabores De Mexico\, The Outside Scoop\, Smokey D's BBQ
X-ALT-DESC;FMTTYPE=text/html:<p style="box-sizing: border-box\; font-family: museo-sans\, sans-serif\; margin: 0px 0px 14px\; font-size: 1.1em\; line-height: 1.8em\; color: rgb(51\, 51\, 51)\; background-color: rgb(255\, 255\, 255)\;"><span style="color: rgb(51\, 51\, 51)\; font-family: museo-sans\, sans-serif\; font-size: 15.4px\; background-color: rgb(255\, 255\, 255)\;">Food Truck Friday &ndash\; Sponsored by&nbsp\;</span><a href="https://www.westsideautopros.com/" style="box-sizing: border-box\; font-family: museo-sans\, sans-serif\; background-color: rgb(255\, 255\, 255)\; color: rgb(65\, 180\, 228)\; text-decoration-line: none\; font-size: 15.4px\;">Westside Auto Pros</a><br />\n<br />\nFun for the whole family!&nbsp\; Come unwind at Food Truck Friday!</p>\n\n<p style="box-sizing: border-box\; font-family: museo-sans\, sans-serif\; margin: 0px 0px 14px\; font-size: 1.1em\; line-height: 1.8em\; color: rgb(51\, 51\, 51)\; background-color: rgb(255\, 255\, 255)\;">Live entertainment and food presented by Clive Parks and Recreation and the Clive Chamber of Commerce.&nbsp\; Jump on the Greenbelt Trail and make your way to Campbell Park to enjoy music\, food\, and fun.&nbsp\; Bring the whole family- the park has three playgrounds and a green space.&nbsp\; Proceeds from the beverage sales at the concession stand will go to Clive Community Services.&nbsp\; Bring a blanket or a lawn chair.</p>\n\n<p style="box-sizing: border-box\; font-family: museo-sans\, sans-serif\; margin: 0px 0px 14px\; font-size: 1.1em\; line-height: 1.8em\; color: rgb(51\, 51\, 51)\; background-color: rgb(255\, 255\, 255)\;">Entertainment:&nbsp\;<a href="https://briancongdon.com/" style="box-sizing: border-box\; background-color: transparent\; color: rgb(65\, 180\, 228)\; text-decoration-line: none\;">Brian Congdon</a></p>\n\n<p style="box-sizing: border-box\; font-family: museo-sans\, sans-serif\; margin: 0px 0px 14px\; font-size: 1.1em\; line-height: 1.8em\; color: rgb(51\, 51\, 51)\; background-color: rgb(255\, 255\, 255)\;">Food Trucks: Smokehouse BBQ\, Naughty &amp\; Nice Food Truck\, Sabores De Mexico\, The Outside Scoop\, Smokey D&rsquo\;s BBQ</p>\n
LOCATION:Campbell Recreation Area
UID:e.2646.319
SEQUENCE:3
DTSTAMP:20260421T054929Z
URL:https://business.clivechamber.org/events/details/food-truck-friday-5-24-19-319
END:VEVENT

END:VCALENDAR
