BEGIN:VCALENDAR
VERSION:2.0
PRODID:-//ChamberMaster//Event Calendar 2.0//EN
METHOD:PUBLISH
X-PUBLISHED-TTL:P3D
REFRESH-INTERVAL:P3D
CALSCALE:GREGORIAN
BEGIN:VEVENT
DTSTART:20180525T223000Z
DTEND:20180526T010000Z
X-MICROSOFT-CDO-ALLDAYEVENT:FALSE
SUMMARY:Food Truck Friday - 5/25/18
DESCRIPTION:Food Truck Friday   Sponsored by Primary Source\n\nFun for the whole family! Come unwind at Food Truck Friday!\n\nLive entertainment and food presented by Clive Parks and Recreation and the Clive Chamber of Commerce. Jump on the Greenbelt Trail and make your way to Campbell Park to enjoy music\, food\, and fun. Bring the whole family   the park has three playgrounds and a green space. Proceeds from the beverage sales at the concession stand will go to Clive Community Services. Bring a blanket or a lawn chair.\n\nEntertainment: Josh Sinclair\n\nFood Trucks: The Outside Scoop\, The Yellow Wagon\, Roadside Taco's\, Machine Shed Food Truck\, Mediterranean Grill\, Naughty & Nice Food Truck
X-ALT-DESC;FMTTYPE=text/html:<p style="box-sizing: border-box\; font-family: museo-sans\, sans-serif\; margin: 0px 0px 14px\; font-size: 1.1em\; line-height: 1.8em\; color: rgb(51\, 51\, 51)\; background-color: rgb(255\, 255\, 255)\;"><strong style="font-size: 1.1em\; box-sizing: border-box\;">Food Truck Friday &ndash\; Sponsored by&nbsp\;<a href="http://clivechamber.org/member-directory/primary-source-inc/" style="box-sizing: border-box\; background-color: transparent\; color: rgb(65\, 180\, 228)\; text-decoration-line: none\;">Primary Source</a></strong></p>\n\n<p style="box-sizing: border-box\; font-family: museo-sans\, sans-serif\; margin: 0px 0px 14px\; font-size: 1.1em\; line-height: 1.8em\; color: rgb(51\, 51\, 51)\; background-color: rgb(255\, 255\, 255)\;">Fun for the whole family! Come unwind at Food Truck Friday!</p>\n\n<p style="box-sizing: border-box\; font-family: museo-sans\, sans-serif\; margin: 0px 0px 14px\; font-size: 1.1em\; line-height: 1.8em\; color: rgb(51\, 51\, 51)\; background-color: rgb(255\, 255\, 255)\;">Live entertainment and food presented by Clive Parks and Recreation and the Clive Chamber of Commerce. Jump on the Greenbelt Trail and make your way to Campbell Park to enjoy music\, food\, and fun. Bring the whole family &ndash\; the park has three playgrounds and a green space. Proceeds from the beverage sales at the concession stand will go to Clive Community Services. Bring a blanket or a lawn chair.</p>\n\n<p style="box-sizing: border-box\; font-family: museo-sans\, sans-serif\; margin: 0px 0px 14px\; font-size: 1.1em\; line-height: 1.8em\; color: rgb(51\, 51\, 51)\; background-color: rgb(255\, 255\, 255)\;">Entertainment: Josh Sinclair</p>\n\n<p style="box-sizing: border-box\; font-family: museo-sans\, sans-serif\; margin: 0px 0px 14px\; font-size: 1.1em\; line-height: 1.8em\; color: rgb(51\, 51\, 51)\; background-color: rgb(255\, 255\, 255)\;">Food Trucks: The Outside Scoop\, The Yellow Wagon\, Roadside Taco&rsquo\;s\, Machine Shed Food Truck\, Mediterranean Grill\, Naughty &amp\; Nice Food Truck</p>\n
LOCATION:Campbell Recreation Area
UID:e.2646.370
SEQUENCE:3
DTSTAMP:20260423T100843Z
URL:https://business.clivechamber.org/events/details/food-truck-friday-5-25-18-370
END:VEVENT

END:VCALENDAR
