BEGIN:VCALENDAR
VERSION:2.0
PRODID:-//ChamberMaster//Event Calendar 2.0//EN
METHOD:PUBLISH
X-PUBLISHED-TTL:P3D
REFRESH-INTERVAL:P3D
CALSCALE:GREGORIAN
BEGIN:VEVENT
DTSTART:20180601T223000Z
DTEND:20180602T010000Z
X-MICROSOFT-CDO-ALLDAYEVENT:FALSE
SUMMARY:Food Truck Friday - 6/1/18
DESCRIPTION:Food Truck Friday   Sponsored by Funky Zebras Clive\n\nFun for the whole family! Come unwind at Food Truck Friday!\n\nLive entertainment and food presented by Clive Parks and Recreation and the Clive Chamber of Commerce. Jump on the Greenbelt Trail and make your way to Campbell Park to enjoy music\, food\, and fun. Bring the whole family   the park has three playgrounds and a green space. Proceeds from the beverage sales at the concession stand will go to Clive Community Services. Bring a blanket or a lawn chair.\n\nEntertainment: Dustin Baird\n\nFood Trucks: Smokehouse BBQ\, The Outside Scoop\, The Yellow Wagon\, Roadside Taco's\, Naughty & Nice Food Truck
X-ALT-DESC;FMTTYPE=text/html:<p style="box-sizing: border-box\; font-family: museo-sans\, sans-serif\; margin: 0px 0px 14px\; font-size: 1.1em\; line-height: 1.8em\; color: rgb(51\, 51\, 51)\; background-color: rgb(255\, 255\, 255)\;"><span style="box-sizing: border-box\; font-weight: 700\; font-size: 15.4px\;">Food Truck Friday &ndash\; Sponsored by&nbsp\;<a href="http://clivechamber.org/member-directory/funky-zebras-clive/" style="box-sizing: border-box\; background-color: transparent\; color: rgb(65\, 180\, 228)\; text-decoration-line: none\;">Funky Zebras Clive</a></span></p>\n\n<p style="box-sizing: border-box\; font-family: museo-sans\, sans-serif\; margin: 0px 0px 14px\; font-size: 1.1em\; line-height: 1.8em\; color: rgb(51\, 51\, 51)\; background-color: rgb(255\, 255\, 255)\;">Fun for the whole family! Come unwind at Food Truck Friday!</p>\n\n<p style="box-sizing: border-box\; font-family: museo-sans\, sans-serif\; margin: 0px 0px 14px\; font-size: 1.1em\; line-height: 1.8em\; color: rgb(51\, 51\, 51)\; background-color: rgb(255\, 255\, 255)\;">Live entertainment and food presented by Clive Parks and Recreation and the Clive Chamber of Commerce. Jump on the Greenbelt Trail and make your way to Campbell Park to enjoy music\, food\, and fun. Bring the whole family &ndash\; the park has three playgrounds and a green space. Proceeds from the beverage sales at the concession stand will go to Clive Community Services. Bring a blanket or a lawn chair.</p>\n\n<p style="box-sizing: border-box\; font-family: museo-sans\, sans-serif\; margin: 0px 0px 14px\; font-size: 1.1em\; line-height: 1.8em\; color: rgb(51\, 51\, 51)\; background-color: rgb(255\, 255\, 255)\;">Entertainment: Dustin Baird</p>\n\n<p style="box-sizing: border-box\; font-family: museo-sans\, sans-serif\; margin: 0px 0px 14px\; font-size: 1.1em\; line-height: 1.8em\; color: rgb(51\, 51\, 51)\; background-color: rgb(255\, 255\, 255)\;">Food Trucks: Smokehouse BBQ\, The Outside Scoop\, The Yellow Wagon\, Roadside Taco&rsquo\;s\, Naughty &amp\; Nice Food Truck</p>\n
LOCATION:Campbell Recreation Area
UID:e.2646.348
SEQUENCE:3
DTSTAMP:20260423T060302Z
URL:https://business.clivechamber.org/events/details/food-truck-friday-6-1-18-348
END:VEVENT

END:VCALENDAR
