BEGIN:VCALENDAR
VERSION:2.0
PRODID:-//ChamberMaster//Event Calendar 2.0//EN
METHOD:PUBLISH
X-PUBLISHED-TTL:P3D
REFRESH-INTERVAL:P3D
CALSCALE:GREGORIAN
BEGIN:VEVENT
DTSTART:20190614T223000Z
DTEND:20190615T010000Z
X-MICROSOFT-CDO-ALLDAYEVENT:FALSE
SUMMARY:Food Truck Friday - 6/14/19
DESCRIPTION:Food Truck Friday   Sponsored by ServiceMaster Rice and NCMIC Group Inc./Professional Solutions\n\nFun for the whole family!  Come unwind at Food Truck Friday!\n\nLive entertainment and food presented by Clive Parks and Recreation and the Clive Chamber of Commerce.  Jump on the Greenbelt Trail and make your way to Campbell Park to enjoy music\, food\, and fun.  Bring the whole family- the park has three playgrounds and a green space.  Proceeds from the beverage sales at the concession stand will go to Clive Community Services.  Bring a blanket or a lawn chair.\n\nEntertainment: Tony Bohnenkamp\n\nFood Trucks: Smokehouse BBQ\, Big Red Food Truck\, The Outside Scoop\, Amigos Taco Truck\, Smokey D's BBQ
X-ALT-DESC;FMTTYPE=text/html:<p style="box-sizing: border-box\; font-family: museo-sans\, sans-serif\; margin: 0px 0px 14px\; font-size: 1.1em\; line-height: 1.8em\; color: rgb(51\, 51\, 51)\; background-color: rgb(255\, 255\, 255)\;">Food Truck Friday &ndash\; Sponsored by <a href="https://servicemasterbyrice.com/">ServiceMaster Rice</a>&nbsp\;and <a href="https://www.ncmicgroup.com/">NCMIC Group Inc./Professional Solutions</a></p>\n\n<p style="box-sizing: border-box\; font-family: museo-sans\, sans-serif\; margin: 0px 0px 14px\; font-size: 1.1em\; line-height: 1.8em\; color: rgb(51\, 51\, 51)\; background-color: rgb(255\, 255\, 255)\;">Fun for the whole family!&nbsp\; Come unwind at Food Truck Friday!</p>\n\n<p style="box-sizing: border-box\; font-family: museo-sans\, sans-serif\; margin: 0px 0px 14px\; font-size: 1.1em\; line-height: 1.8em\; color: rgb(51\, 51\, 51)\; background-color: rgb(255\, 255\, 255)\;">Live entertainment and food presented by Clive Parks and Recreation and the Clive Chamber of Commerce.&nbsp\; Jump on the Greenbelt Trail and make your way to Campbell Park to enjoy music\, food\, and fun.&nbsp\; Bring the whole family- the park has three playgrounds and a green space.&nbsp\; Proceeds from the beverage sales at the concession stand will go to Clive Community Services.&nbsp\; Bring a blanket or a lawn chair.</p>\n\n<p style="box-sizing: border-box\; font-family: museo-sans\, sans-serif\; margin: 0px 0px 14px\; font-size: 1.1em\; line-height: 1.8em\; color: rgb(51\, 51\, 51)\; background-color: rgb(255\, 255\, 255)\;">Entertainment: Tony Bohnenkamp</p>\n\n<p style="box-sizing: border-box\; font-family: museo-sans\, sans-serif\; margin: 0px 0px 14px\; font-size: 1.1em\; line-height: 1.8em\; color: rgb(51\, 51\, 51)\; background-color: rgb(255\, 255\, 255)\;">Food Trucks: <span style="color: rgb(51\, 51\, 51)\; font-family: museo-sans\, sans-serif\; font-size: 15.4px\; background-color: rgb(255\, 255\, 255)\;">Smokehouse BBQ\, Big Red Food Truck\, The Outside Scoop\, Amigos Taco Truck\, Smokey D&rsquo\;s BBQ</span></p>\n
LOCATION:Campbell Park
UID:e.2646.22
SEQUENCE:3
DTSTAMP:20260421T054908Z
URL:https://business.clivechamber.org/events/details/food-truck-friday-6-14-19-22
END:VEVENT

END:VCALENDAR
