BEGIN:VCALENDAR
VERSION:2.0
PRODID:-//ChamberMaster//Event Calendar 2.0//EN
METHOD:PUBLISH
X-PUBLISHED-TTL:P3D
REFRESH-INTERVAL:P3D
CALSCALE:GREGORIAN
BEGIN:VEVENT
DTSTART:20190823T223000Z
DTEND:20190824T010000Z
X-MICROSOFT-CDO-ALLDAYEVENT:FALSE
SUMMARY:Food Truck Friday - 8/23/19
DESCRIPTION:Food Truck Friday   Sponsored by TBD\n\nFun for the whole family!  Come unwind at Food Truck Friday!\n\nLive entertainment and food presented by Clive Parks and Recreation and the Clive Chamber of Commerce.  Jump on the Greenbelt Trail and make your way to Campbell Park to enjoy music\, food\, and fun.  Bring the whole family- the park has three playgrounds and a green space.  Proceeds from the beverage sales at the concession stand will go to Clive Community Services.  Bring a blanket or a lawn chair.\n\nEntertainment: Lily DeTaeye\n\nCheck out Lily's music here\, https://www.youtube.com/watch?v=0f9E9XMDShA\n\nFood Trucks: Curbin' Cuisine\, The Outside Scoop\, Amigos Taco Truck\, Naughty & Nice and Smokehouse BBQ.\n\n\n\nThe Clive Public Library will be hosting a Foam Party at this event. Bring towels and wear clothes you don't mind getting dirty as this will be messy! Children must be accompanied by an adult.
X-ALT-DESC;FMTTYPE=text/html:<p style="box-sizing: border-box\; font-family: museo-sans\, sans-serif\; margin: 0px 0px 14px\; font-size: 1.1em\; line-height: 1.8em\; color: rgb(51\, 51\, 51)\; background-color: rgb(255\, 255\, 255)\;">Food Truck Friday &ndash\; Sponsored by TBD</p>\n\n<p style="box-sizing: border-box\; font-family: museo-sans\, sans-serif\; margin: 0px 0px 14px\; font-size: 1.1em\; line-height: 1.8em\; color: rgb(51\, 51\, 51)\; background-color: rgb(255\, 255\, 255)\;">Fun for the whole family!&nbsp\; Come unwind at Food Truck Friday!</p>\n\n<p style="box-sizing: border-box\; font-family: museo-sans\, sans-serif\; margin: 0px 0px 14px\; font-size: 1.1em\; line-height: 1.8em\; color: rgb(51\, 51\, 51)\; background-color: rgb(255\, 255\, 255)\;">Live entertainment and food presented by Clive Parks and Recreation and the Clive Chamber of Commerce.&nbsp\; Jump on the Greenbelt Trail and make your way to Campbell Park to enjoy music\, food\, and fun.&nbsp\; Bring the whole family- the park has three playgrounds and a green space.&nbsp\; Proceeds from the beverage sales at the concession stand will go to Clive Community Services.&nbsp\; Bring a blanket or a lawn chair.</p>\n\n<p style="box-sizing: border-box\; font-family: museo-sans\, sans-serif\; margin: 0px 0px 14px\; font-size: 1.1em\; line-height: 1.8em\; color: rgb(51\, 51\, 51)\; background-color: rgb(255\, 255\, 255)\;">Entertainment: <a href="http://www.lilydetaeye.com/">Lily DeTaeye</a><br />\nCheck out Lily&#39\;s music here\,&nbsp\;<a href="https://www.youtube.com/watch?v=0f9E9XMDShA"><span style="color:blue\;">https://www.youtube.com/watch?v=0f9E9XMDShA</span></a></p>\n\n<p style="box-sizing: border-box\; font-family: museo-sans\, sans-serif\; margin: 0px 0px 14px\; font-size: 1.1em\; line-height: 1.8em\; color: rgb(51\, 51\, 51)\; background-color: rgb(255\, 255\, 255)\;">Food Trucks:&nbsp\;Curbin&#39\; Cuisine\, The Outside Scoop\, Amigos Taco Truck\, Naughty &amp\; Nice and Smokehouse BBQ.<br />\n<br />\nThe Clive Public Library will be hosting a Foam Party at this event.&nbsp\;<span style="color: rgb(29\, 33\, 41)\; font-family: Helvetica\, Arial\, sans-serif\; font-size: 14px\; white-space: pre-wrap\; background-color: rgb(255\, 255\, 255)\;">Bring towels and wear clothes you don&#39\;t mind getting dirty as this will be messy! Children must be accompanied by an adult.</span></p>\n
LOCATION:Campbell Park
UID:e.2646.285
SEQUENCE:3
DTSTAMP:20260420T194733Z
URL:https://business.clivechamber.org/events/details/food-truck-friday-8-23-19-285
END:VEVENT

END:VCALENDAR
