BEGIN:VCALENDAR
VERSION:2.0
PRODID:-//ChamberMaster//Event Calendar 2.0//EN
METHOD:PUBLISH
X-PUBLISHED-TTL:P3D
REFRESH-INTERVAL:P3D
CALSCALE:GREGORIAN
BEGIN:VEVENT
DTSTART:20190928T160000Z
DTEND:20190928T220000Z
X-MICROSOFT-CDO-ALLDAYEVENT:FALSE
SUMMARY:Granite City - Oktoberfest Dine to Donate Event
DESCRIPTION:From 11 am to 5 pm Granite City Brewery will donate $0.25 to ARL Animal Rescue League of Iowa for every Oktoberfest Beer Sold!\n\n\n\nhttps://www.gcfb.com/oktoberfest/#beer-info
X-ALT-DESC;FMTTYPE=text/html:<span style="font-size:16px"><span style="font-family:arial\,helvetica\,sans-serif">From 11 am to 5 pm Granite City Brewery will donate $0.25 to ARL Animal Rescue League of Iowa for every Oktoberfest Beer Sold!<br />\n<br />\n<a href="https://www.gcfb.com/oktoberfest/#beer-info">https://www.gcfb.com/oktoberfest/#beer-info</a></span></span>
LOCATION:Granite City Brewery
UID:e.2646.423
SEQUENCE:3
DTSTAMP:20260420T092707Z
URL:https://business.clivechamber.org/events/details/granite-city-oktoberfest-dine-to-donate-event-423
END:VEVENT

END:VCALENDAR
