BEGIN:VCALENDAR
VERSION:2.0
PRODID:-//ChamberMaster//Event Calendar 2.0//EN
METHOD:PUBLISH
X-PUBLISHED-TTL:P3D
REFRESH-INTERVAL:P3D
CALSCALE:GREGORIAN
BEGIN:VEVENT
DTSTART:20191005T160000Z
DTEND:20191005T220000Z
X-MICROSOFT-CDO-ALLDAYEVENT:FALSE
SUMMARY:Granite City - Oktoberfest Last Chance Party
DESCRIPTION:New Double Hazy IPA Tapping Event!\n\nDuring this tapping event appetizers are 1/2 off\n\n\n\nhttps://www.gcfb.com/oktoberfest/#beer-info
X-ALT-DESC;FMTTYPE=text/html:<p><span style="font-size:14px"><span style="font-family:arial\,helvetica\,sans-serif"><span style="font-size:22px">New Double Hazy IPA Tapping Event!</span></span></span></p>\n\n<p><span style="font-size:16px"><span style="font-family:arial\,helvetica\,sans-serif">During this tapping event appetizers are 1/2 off<br />\n<br />\n<a href="https://www.gcfb.com/oktoberfest/#beer-info">https://www.gcfb.com/oktoberfest/#beer-info</a></span></span></p>\n
LOCATION:Granite City Brewery
UID:e.2646.424
SEQUENCE:3
DTSTAMP:20260420T041207Z
URL:https://business.clivechamber.org/events/details/granite-city-oktoberfest-last-chance-party-424
END:VEVENT

END:VCALENDAR
