BEGIN:VCALENDAR
VERSION:2.0
PRODID:-//ChamberMaster//Event Calendar 2.0//EN
METHOD:PUBLISH
X-PUBLISHED-TTL:P3D
REFRESH-INTERVAL:P3D
CALSCALE:GREGORIAN
BEGIN:VEVENT
DTSTART:20190921T160000Z
DTEND:20190921T220000Z
X-MICROSOFT-CDO-ALLDAYEVENT:FALSE
SUMMARY:Granite City - Oktoberfest Tapping Event
DESCRIPTION:We're tapping Oktoberfest!\n\nHalf Off Apps during the event.\n\nFirst 50 Guests Receive a FREE Oktoberfest Collectors Mug*. \n\nEnter to win Beer for a year!!!\n\n\n\n*Free Oktoberfest Mug only valid while supplies last. Must be present in store to enter for Beer for a Year. Winners will be awarded with a Granite City Food & Brewery gift card valid to purchase beer for a year at any location.\n\n\n\nhttps://www.gcfb.com/oktoberfest/#beer-info
X-ALT-DESC;FMTTYPE=text/html:<span style="font-size:14px"><span style="font-family:arial\,helvetica\,sans-serif"><span style="font-size:22px">We&#39\;re tapping Oktoberfest!</span><br />\nHalf Off Apps during the event.<br />\nFirst 50 Guests Receive a FREE Oktoberfest Collectors Mug*.&nbsp\;<br />\nEnter to win Beer for a year!!!<br />\n<br />\n<em>*Free Oktoberfest Mug only valid while supplies last. Must be present in store to enter for Beer for a Year. Winners will be awarded with a Granite City Food &amp\; Brewery gift card valid to purchase beer for a year at any location.</em><br />\n<br />\n<span style="font-size:16px"><a href="https://www.gcfb.com/oktoberfest/#beer-info">https://www.gcfb.com/oktoberfest/#beer-info</a></span></span></span>
LOCATION:Granite City Brewery
UID:e.2646.422
SEQUENCE:3
DTSTAMP:20260420T135437Z
URL:https://business.clivechamber.org/events/details/granite-city-oktoberfest-tapping-event-422
END:VEVENT

END:VCALENDAR
