BEGIN:VCALENDAR
VERSION:2.0
PRODID:-//ChamberMaster//Event Calendar 2.0//EN
METHOD:PUBLISH
X-PUBLISHED-TTL:P3D
REFRESH-INTERVAL:P3D
CALSCALE:GREGORIAN
BEGIN:VEVENT
DTSTART;VALUE=DATE:20240517
DTEND;VALUE=DATE:20240519
TRANSP:TRANSPARENT
X-MICROSOFT-CDO-ALLDAYEVENT:TRUE
SUMMARY:Greenbelt Music Festival
DESCRIPTION:Two Days. Two Stages.\n\nA festival for all ages.\n\nKids 12 and Under enter FREE\n\n\n\nThe Greenbelt Music Festival is an outdoor music festival featuring national and local live entertainment. Enjoy an outdoor stage\, games and activities\, amazing food\, tasty beverages\, vendors\, indoor stage and more! \n\nTaking place in Clive\, IA just off the lively Greenbelt Trail - known for its lush trees and view of Walnut Creek. A family friendly festival celebrating our community\, Clive's Greenbelt Trail\, the arts\,  live entertainment...and goats.\n\n\n\nExperience Greenbelt\n\nMUSIC: Music Lineup HERE\n\n\n	Two Days of Music\n	Over 20 Bands \n	Outdoor & Indoor Stages\n	Family Friendly: 12 & under enter free\n	VIP & GA Ticket Packages\n	1 Day & 2 Day Passes \n\nEXPLORE:\n\n\n	Bags Tournament\n	 Silent Disco\n	GOATS \n	KIDS ZONE\n	Face Painting\n	Food Trucks\n	And MORE\n\nGET INVOLVED:\n\n\n	Merchandise Vendors\n	Food Vendors\n	Service & Product Vendors\n	Bicycle Valet Volunteers\n	Ticketing Volunteers\n	Sponsors\n	And MORE
X-ALT-DESC;FMTTYPE=text/html:<p>Two Days. Two Stages.</p>\n\n<p>A festival for all ages.<br />\nKids 12 and Under enter FREE<br />\n<br />\nThe Greenbelt Music Festival is an outdoor music festival featuring national and local live entertainment. Enjoy an outdoor stage\, games and activities\, amazing food\, tasty beverages\, vendors\, indoor stage and more!&nbsp\;</p>\n\n<p>Taking place in Clive\, IA just off the lively Greenbelt Trail - known for its lush trees and view of Walnut Creek. A family friendly festival celebrating our community\, Clive&rsquo\;s Greenbelt Trail\, the arts\,&nbsp\; live entertainment...and goats.<br />\n<br />\n<strong>Experience Greenbelt</strong><br />\n<strong>MUSIC: Music Lineup <a href="https://www.greenbeltmusic.com/experience">HERE</a></strong></p>\n\n<ul>\n	<li>Two Days of Music</li>\n	<li>Over 20 Bands&nbsp\;</li>\n	<li>Outdoor &amp\; Indoor Stages</li>\n	<li>Family Friendly: 12 &amp\; under enter free</li>\n	<li>VIP &amp\; GA Ticket Packages</li>\n	<li>1 Day &amp\; 2 Day Passes&#8203\;</li>\n</ul>\n<strong>EXPLORE:</strong>\n\n<ul>\n	<li>Bags Tournament</li>\n	<li>&#8203\;Silent Disco</li>\n	<li>GOATS&nbsp\;</li>\n	<li>KIDS ZONE</li>\n	<li>Face Painting</li>\n	<li>Food Trucks</li>\n	<li>And MORE</li>\n</ul>\n<strong>GET INVOLVED:</strong>\n\n<ul>\n	<li>Merchandise Vendors</li>\n	<li>Food Vendors</li>\n	<li>Service &amp\; Product Vendors</li>\n	<li>Bicycle Valet Volunteers</li>\n	<li>Ticketing Volunteers</li>\n	<li>Sponsors</li>\n	<li>And MORE</li>\n</ul>\n\n<p>&nbsp\;</p>\n
LOCATION:Horizon Events Center
UID:e.2646.956
SEQUENCE:3
DTSTAMP:20260423T013737Z
URL:https://business.clivechamber.org/events/details/greenbelt-music-festival-956
END:VEVENT

END:VCALENDAR
