BEGIN:VCALENDAR
VERSION:2.0
PRODID:-//ChamberMaster//Event Calendar 2.0//EN
METHOD:PUBLISH
X-PUBLISHED-TTL:P3D
REFRESH-INTERVAL:P3D
CALSCALE:GREGORIAN
BEGIN:VEVENT
DTSTART:20220504T213000Z
DTEND:20220504T223000Z
X-MICROSOFT-CDO-ALLDAYEVENT:FALSE
SUMMARY:Harbach Center Ribbon Cutting
DESCRIPTION:The Harbach Center will be open to the public starting Monday\, May 2. In recognition of this exciting new project in the City of Clive\, the Clive Chamber of Commerce will hold a ribbon cutting ceremony on Wednesday\, May 4th followed by a facility tour for Chamber representatives. On Thursday May 5th\, all are welcome to return to the Harbach Center for a neighborhood Cinco de Mayo celebration including music\, futsal\, and other fun activities. Learn more about the Harbach Center at https://www.cityofclive.com/parkandrecreation/facilities/harbach_center.php
X-ALT-DESC;FMTTYPE=text/html:The Harbach Center will be open to the public starting Monday\, May 2. In recognition of this exciting new project in the City of Clive\, the Clive Chamber of Commerce will hold a ribbon cutting ceremony on Wednesday\, May 4th followed by a facility tour for Chamber representatives. On Thursday May 5th\, all are welcome to return to the Harbach Center for a neighborhood Cinco de Mayo celebration including music\, futsal\, and other fun activities. Learn more about the Harbach Center at <a href="https://www.google.com/url?q=https://www.cityofclive.com/parkandrecreation/facilities/harbach_center.php&amp\;sa=D&amp\;source=calendar&amp\;ust=1650392276570983&amp\;usg=AOvVaw1OUT_VAnQ96hdRynrrjBKx" target="_blank">https://www.cityofclive.com/parkandrecreation/facilities/harbach_center.php</a>
LOCATION:
UID:e.2646.739
SEQUENCE:3
DTSTAMP:20260420T135103Z
URL:https://business.clivechamber.org/events/details/harbach-center-ribbon-cutting-739
END:VEVENT

END:VCALENDAR
