BEGIN:VCALENDAR
VERSION:2.0
PRODID:-//ChamberMaster//Event Calendar 2.0//EN
METHOD:PUBLISH
X-PUBLISHED-TTL:P3D
REFRESH-INTERVAL:P3D
CALSCALE:GREGORIAN
BEGIN:VEVENT
DTSTART:20180514T203000Z
DTEND:20180514T220000Z
X-MICROSOFT-CDO-ALLDAYEVENT:FALSE
SUMMARY:Iowa Credit Union League & AMC Family of Companies Ribbon Cutting
DESCRIPTION:The Iowa Credit Union League and AMC family of companies invite you to attend an Open House and Ribbon Cutting at their new location   come celebrate with them!\n\nMonday\, May 14\n\n3:30   5:00 p.m.\n\nRibbon cutting ceremony to begin at 4:00 p.m.\n\n7745 Office Plaza Drive North\, Suite 170\, West Des Moines\, IA 50266\n\nThe Clive Chamber will be partnering with our friends at the West Des Moines Chamber for this event.\n\nThe Iowa Credit Union League and AMC family of companies are excited to welcome you to their new space\, as they continue their mission to ensure credit union growth and vitality by improving the financial lives of consumers.
X-ALT-DESC;FMTTYPE=text/html:<p style="box-sizing: border-box\; font-family: museo-sans\, sans-serif\; margin: 0px 0px 14px\; font-size: 1.1em\; line-height: 1.8em\; color: rgb(51\, 51\, 51)\; background-color: rgb(255\, 255\, 255)\;">The Iowa Credit Union League and AMC family of companies invite you to attend an Open House and Ribbon Cutting at their new location &ndash\; come celebrate with them!</p>\n\n<p style="box-sizing: border-box\; font-family: museo-sans\, sans-serif\; margin: 0px 0px 14px\; font-size: 1.1em\; line-height: 1.8em\; color: rgb(51\, 51\, 51)\; background-color: rgb(255\, 255\, 255)\;"><strong style="box-sizing: border-box\;">Monday\, May 14</strong><br style="box-sizing: border-box\;" />\n<strong style="box-sizing: border-box\;">3:30 &ndash\; 5:00 p.m.</strong><br style="box-sizing: border-box\;" />\n<em style="box-sizing: border-box\;">Ribbon cutting ceremony to begin at 4:00 p.m.</em></p>\n\n<p style="box-sizing: border-box\; font-family: museo-sans\, sans-serif\; margin: 0px 0px 14px\; font-size: 1.1em\; line-height: 1.8em\; color: rgb(51\, 51\, 51)\; background-color: rgb(255\, 255\, 255)\;">7745 Office Plaza Drive North\, Suite 170\, West Des Moines\, IA 50266</p>\n\n<p style="box-sizing: border-box\; font-family: museo-sans\, sans-serif\; margin: 0px 0px 14px\; font-size: 1.1em\; line-height: 1.8em\; color: rgb(51\, 51\, 51)\; background-color: rgb(255\, 255\, 255)\;">The Clive Chamber will be partnering with our friends at the West Des Moines Chamber for this event.</p>\n\n<p style="box-sizing: border-box\; font-family: museo-sans\, sans-serif\; margin: 0px 0px 14px\; font-size: 1.1em\; line-height: 1.8em\; color: rgb(51\, 51\, 51)\; background-color: rgb(255\, 255\, 255)\;">The Iowa Credit Union League and AMC family of companies are excited to welcome you to their new space\, as they continue their mission to ensure credit union growth and vitality by improving the financial lives of consumers.</p>\n
LOCATION:Iowa Credit Union League
UID:e.2646.364
SEQUENCE:3
DTSTAMP:20260423T102052Z
URL:https://business.clivechamber.org/events/details/iowa-credit-union-league-amc-family-of-companies-ribbon-cutting-364
END:VEVENT

END:VCALENDAR
