BEGIN:VCALENDAR
VERSION:2.0
PRODID:-//ChamberMaster//Event Calendar 2.0//EN
METHOD:PUBLISH
X-PUBLISHED-TTL:P3D
REFRESH-INTERVAL:P3D
CALSCALE:GREGORIAN
BEGIN:VEVENT
DTSTART:20190124T223000Z
DTEND:20190125T000000Z
X-MICROSOFT-CDO-ALLDAYEVENT:FALSE
SUMMARY:January Business After Hours
DESCRIPTION:Join us for a Business After Hours\, 4\;30 to 6 pm at The Funky Zebras Clive!\n \n\n\nPlease bring co-workers and friends for food\, fun & networking with your fellow Clive Chamber members.\n\nThe Funky Zebras Clive will be giving away a 10 inch decorated cake from Nothing bundt Cakes (provide by NBC) and a Gift Basket with a gift card and few of their favorite things from the store!
X-ALT-DESC;FMTTYPE=text/html:<span style="color: rgb(51\, 51\, 51)\; font-family: museo-sans\, sans-serif\; font-size: 15.4px\; background-color: rgb(255\, 255\, 255)\;">Join us for a Business After Hours\, 4\;30 to 6 pm at The Funky Zebras Clive!</span>\n<div>&nbsp\;</div>\n\n<div>\n<p style="box-sizing: border-box\; font-family: museo-sans\, sans-serif\; margin: 0px 0px 14px\; font-size: 1.1em\; line-height: 1.8em\; color: rgb(51\, 51\, 51)\; background-color: rgb(255\, 255\, 255)\;">Please bring co-workers and friends for food\, fun &amp\; networking with your fellow Clive Chamber members.</p>\n\n<p style="box-sizing: border-box\; font-family: museo-sans\, sans-serif\; margin: 0px 0px 14px\; font-size: 1.1em\; line-height: 1.8em\; color: rgb(51\, 51\, 51)\; background-color: rgb(255\, 255\, 255)\;"><span style="box-sizing: border-box\; font-weight: 700\;">The Funky Zebras Clive will be giving away a 10 inch decorated cake from Nothing bundt Cakes (provide by NBC) and a Gift Basket with a gift card and few of their favorite things from the store!</span></p>\n</div>\n
LOCATION:The Funky Zebras Clive
UID:e.2646.303
SEQUENCE:3
DTSTAMP:20260421T225254Z
URL:https://business.clivechamber.org/events/details/january-business-after-hours-303
END:VEVENT

END:VCALENDAR
