BEGIN:VCALENDAR
VERSION:2.0
PRODID:-//ChamberMaster//Event Calendar 2.0//EN
METHOD:PUBLISH
X-PUBLISHED-TTL:P3D
REFRESH-INTERVAL:P3D
CALSCALE:GREGORIAN
BEGIN:VEVENT
DTSTART:20190711T213000Z
DTEND:20190711T230000Z
X-MICROSOFT-CDO-ALLDAYEVENT:FALSE
SUMMARY:July Business After Hours
DESCRIPTION:Please bring co-workers and friends for food\, fun & networking with your fellow Clive Chamber members.\n\nThis event will be all about fun and will offer attendees a new experience.\n\nGreat Southern Bank wanted something different\, rather than a traditional Business After Hours where attendees mingle with people they are already familiar and comfortable with. The "Bingo Game" will challenge participants to mingle with new faces and make new connections.\n\nPrizes and refreshments will be provided.
X-ALT-DESC;FMTTYPE=text/html:<p style="box-sizing: border-box\; font-family: museo-sans\, sans-serif\; margin: 0px 0px 14px\; font-size: 1.1em\; line-height: 1.8em\; color: rgb(51\, 51\, 51)\; background-color: rgb(255\, 255\, 255)\;">Please bring co-workers and friends for food\, fun &amp\; networking with your fellow Clive Chamber members.</p>\n\n<p style="box-sizing: border-box\; font-family: museo-sans\, sans-serif\; margin: 0px 0px 14px\; font-size: 1.1em\; line-height: 1.8em\; color: rgb(51\, 51\, 51)\; background-color: rgb(255\, 255\, 255)\;">This event will be all about fun and will offer attendees a new experience.</p>\n\n<p style="box-sizing: border-box\; font-family: museo-sans\, sans-serif\; margin: 0px 0px 14px\; font-size: 1.1em\; line-height: 1.8em\; color: rgb(51\, 51\, 51)\; background-color: rgb(255\, 255\, 255)\;">Great Southern Bank wanted something different\, rather than a traditional Business After Hours where attendees mingle with people they are already familiar and comfortable with. The &ldquo\;Bingo Game&rdquo\; will challenge participants to mingle with new faces and make new connections.</p>\n\n<p style="box-sizing: border-box\; font-family: museo-sans\, sans-serif\; margin: 0px 0px 14px\; font-size: 1.1em\; line-height: 1.8em\; color: rgb(51\, 51\, 51)\; background-color: rgb(255\, 255\, 255)\;">Prizes and refreshments will be provided.</p>\n
LOCATION:Great Southern Bank
UID:e.2646.281
SEQUENCE:3
DTSTAMP:20260421T003324Z
URL:https://business.clivechamber.org/events/details/july-business-after-hours-281
END:VEVENT

END:VCALENDAR
