BEGIN:VCALENDAR
VERSION:2.0
PRODID:-//ChamberMaster//Event Calendar 2.0//EN
METHOD:PUBLISH
X-PUBLISHED-TTL:P3D
REFRESH-INTERVAL:P3D
CALSCALE:GREGORIAN
BEGIN:VEVENT
DTSTART:20180712T213000Z
DTEND:20180712T230000Z
X-MICROSOFT-CDO-ALLDAYEVENT:FALSE
SUMMARY:July Business After Hours
DESCRIPTION:Join us for a Business After Hours\, 4:30 to 6 pm hosted by Woodlands Creek!\n \n\nPlease bring co-workers and friends for food\, fun & networking with your fellow Clive Chamber members.
X-ALT-DESC;FMTTYPE=text/html:<span style="color: rgb(51\, 51\, 51)\; font-family: museo-sans\, sans-serif\; font-size: 15.4px\; background-color: rgb(255\, 255\, 255)\;">Join us for a Business After Hours\, 4:30 to 6 pm hosted by Woodlands Creek!</span>\n<div>&nbsp\;</div>\n\n<div><span style="color: rgb(51\, 51\, 51)\; font-family: museo-sans\, sans-serif\; font-size: 15.4px\; background-color: rgb(255\, 255\, 255)\;">Please bring co-workers and friends for food\, fun &amp\; networking with your fellow Clive Chamber members.</span></div>\n
LOCATION:Woodlands Creek Senior Living
UID:e.2646.345
SEQUENCE:3
DTSTAMP:20260423T011749Z
URL:https://business.clivechamber.org/events/details/july-business-after-hours-345
END:VEVENT

END:VCALENDAR
