BEGIN:VCALENDAR
VERSION:2.0
PRODID:-//ChamberMaster//Event Calendar 2.0//EN
METHOD:PUBLISH
X-PUBLISHED-TTL:P3D
REFRESH-INTERVAL:P3D
CALSCALE:GREGORIAN
BEGIN:VEVENT
DTSTART:20180621T200000Z
DTEND:20180621T220000Z
X-MICROSOFT-CDO-ALLDAYEVENT:FALSE
SUMMARY:June Greenbelt Trail and Park Clean Up
DESCRIPTION:The Clive Chamber adopted a portion of the Clive Greenbelt Trail (73rd Street to 86thStreet) and George Lundberg Park (1450 NW 78th Street) as part of the new City of Clive Park and Trail Clean-up Program.\n\nOn Thursday\, June 21 we will hold our second clean-up of the year from 3 to 5 pm.  Bring co-workers and join us for a few hours to help keep Clive beautiful.\n\nCome dressed appropriately for the weather. Closed toed shoes\, long pants and gloves are recommended. Trash bags will be provided.\n\nWe will be meeting at 515 Brewing Company\, 7700 University\, Clive at 3:00 PM\n\nFollowing the cleanup those interested will head to 515 Brewing for a refreshment.\n\n515 Brewing Company will be celebrating National Cookie Dough Day!  They will have Scratch Cupcakery cookie dough for sale to try with suggested beer pairing.
X-ALT-DESC;FMTTYPE=text/html:<p style="box-sizing: border-box\; font-family: museo-sans\, sans-serif\; margin: 0px 0px 14px\; font-size: 1.1em\; line-height: 1.8em\; color: rgb(51\, 51\, 51)\; background-color: rgb(255\, 255\, 255)\;">The Clive Chamber adopted a portion of the Clive Greenbelt Trail (73<span style="box-sizing: border-box\; font-size: 11.55px\; line-height: 0\; position: relative\; vertical-align: baseline\; top: -0.5em\;">rd</span>&nbsp\;Street to 86<span style="box-sizing: border-box\; font-size: 11.55px\; line-height: 0\; position: relative\; vertical-align: baseline\; top: -0.5em\;">th</span>Street) and George Lundberg Park (1450 NW 78<span style="box-sizing: border-box\; font-size: 11.55px\; line-height: 0\; position: relative\; vertical-align: baseline\; top: -0.5em\;">th</span>&nbsp\;Street) as part of the new City of Clive Park and Trail Clean-up Program.</p>\n\n<p style="box-sizing: border-box\; font-family: museo-sans\, sans-serif\; margin: 0px 0px 14px\; font-size: 1.1em\; line-height: 1.8em\; color: rgb(51\, 51\, 51)\; background-color: rgb(255\, 255\, 255)\;">On Thursday\, June 21 we will hold our second clean-up of the year from 3 to 5 pm.&nbsp\; Bring co-workers and join us for a few hours to help keep Clive beautiful.</p>\n\n<p style="box-sizing: border-box\; font-family: museo-sans\, sans-serif\; margin: 0px 0px 14px\; font-size: 1.1em\; line-height: 1.8em\; color: rgb(51\, 51\, 51)\; background-color: rgb(255\, 255\, 255)\;">Come dressed appropriately for the weather. Closed toed shoes\, long pants and gloves are recommended. Trash bags will be provided.</p>\n\n<p style="box-sizing: border-box\; font-family: museo-sans\, sans-serif\; margin: 0px 0px 14px\; font-size: 1.1em\; line-height: 1.8em\; color: rgb(51\, 51\, 51)\; background-color: rgb(255\, 255\, 255)\;"><strong style="box-sizing: border-box\;">We will be meeting at 515 Brewing Company\, 7700 University\, Clive at 3:00 PM</strong></p>\n\n<p style="box-sizing: border-box\; font-family: museo-sans\, sans-serif\; margin: 0px 0px 14px\; font-size: 1.1em\; line-height: 1.8em\; color: rgb(51\, 51\, 51)\; background-color: rgb(255\, 255\, 255)\;">Following the cleanup those interested will head to 515 Brewing for a refreshment.<br style="box-sizing: border-box\;" />\n515 Brewing Company will be celebrating National Cookie Dough Day!&nbsp\; They will have Scratch Cupcakery cookie dough for sale to try with suggested beer pairing.</p>\n
LOCATION:515 Brewing Company
UID:e.2646.357
SEQUENCE:3
DTSTAMP:20260423T094427Z
URL:https://business.clivechamber.org/events/details/june-greenbelt-trail-and-park-clean-up-357
END:VEVENT

END:VCALENDAR
