BEGIN:VCALENDAR
VERSION:2.0
PRODID:-//ChamberMaster//Event Calendar 2.0//EN
METHOD:PUBLISH
X-PUBLISHED-TTL:P3D
REFRESH-INTERVAL:P3D
CALSCALE:GREGORIAN
BEGIN:VEVENT
DTSTART:20180629T163000Z
DTEND:20180629T180000Z
X-MICROSOFT-CDO-ALLDAYEVENT:FALSE
SUMMARY:June Lunch on the Plaza
DESCRIPTION:Please join us at Aasheim Plaza for Lunch on the Plaza.\n\nSponsored by Clive Lions and Clive Historical Society\n\nBring an appetite for a FREE lunch\, enjoy entertainment and the wonderful setting of the plaza.\n\nMenu: Spaghetti\, Bread Sticks\, Salad\, Cookies\, Water and Soda\n\nEntertainment: Cowboy Bob's Gospel and Big Band Review\n\nEnter the drawing to win a Clive Throw courtesy of the Clive Historical Society.\n\nLunch will be held outside\, weather permitting\, otherwise it will be moved to the fire bays at the Dymond Public Safety Center\, 8505 Harbach Blvd.
X-ALT-DESC;FMTTYPE=text/html:<p style="box-sizing: border-box\; font-family: museo-sans\, sans-serif\; margin: 0px 0px 14px\; font-size: 1.1em\; line-height: 1.8em\; color: rgb(51\, 51\, 51)\; background-color: rgb(255\, 255\, 255)\;">Please join us at Aasheim Plaza for Lunch on the Plaza.</p>\n\n<p style="box-sizing: border-box\; font-family: museo-sans\, sans-serif\; margin: 0px 0px 14px\; font-size: 1.1em\; line-height: 1.8em\; color: rgb(51\, 51\, 51)\; background-color: rgb(255\, 255\, 255)\;">Sponsored by Clive Lions and Clive Historical Society</p>\n\n<p style="box-sizing: border-box\; font-family: museo-sans\, sans-serif\; margin: 0px 0px 14px\; font-size: 1.1em\; line-height: 1.8em\; color: rgb(51\, 51\, 51)\; background-color: rgb(255\, 255\, 255)\;">Bring an appetite for a FREE lunch\, enjoy entertainment and the wonderful setting of the plaza.</p>\n\n<p style="box-sizing: border-box\; font-family: museo-sans\, sans-serif\; margin: 0px 0px 14px\; font-size: 1.1em\; line-height: 1.8em\; color: rgb(51\, 51\, 51)\; background-color: rgb(255\, 255\, 255)\;">Menu: Spaghetti\, Bread Sticks\, Salad\, Cookies\, Water and Soda</p>\n\n<p style="box-sizing: border-box\; font-family: museo-sans\, sans-serif\; margin: 0px 0px 14px\; font-size: 1.1em\; line-height: 1.8em\; color: rgb(51\, 51\, 51)\; background-color: rgb(255\, 255\, 255)\;">Entertainment: Cowboy Bob&rsquo\;s Gospel and Big Band Review</p>\n\n<p style="box-sizing: border-box\; font-family: museo-sans\, sans-serif\; margin: 0px 0px 14px\; font-size: 1.1em\; line-height: 1.8em\; color: rgb(51\, 51\, 51)\; background-color: rgb(255\, 255\, 255)\;">Enter the drawing to win a Clive Throw courtesy of the Clive Historical Society.</p>\n\n<p style="box-sizing: border-box\; font-family: museo-sans\, sans-serif\; margin: 0px 0px 14px\; font-size: 1.1em\; line-height: 1.8em\; color: rgb(51\, 51\, 51)\; background-color: rgb(255\, 255\, 255)\;">Lunch will be held outside\, weather permitting\, otherwise it will be moved to the fire bays at the Dymond Public Safety Center\, 8505 Harbach Blvd.</p>\n
LOCATION:Clive Fire Department
UID:e.2646.360
SEQUENCE:3
DTSTAMP:20260423T053942Z
URL:https://business.clivechamber.org/events/details/june-lunch-on-the-plaza-360
END:VEVENT

END:VCALENDAR
