BEGIN:VCALENDAR
VERSION:2.0
PRODID:-//ChamberMaster//Event Calendar 2.0//EN
METHOD:PUBLISH
X-PUBLISHED-TTL:P3D
REFRESH-INTERVAL:P3D
CALSCALE:GREGORIAN
BEGIN:VEVENT
DTSTART:20190925T220000Z
DTEND:20190926T013000Z
X-MICROSOFT-CDO-ALLDAYEVENT:FALSE
SUMMARY:Ladies Night - Bingo and Designer Handbag Fundraiser
DESCRIPTION:Please join us for a night of bingo and designer handbags presented by American Family Insurance   Bannister & Associates LLC!\n\nThis is not your Grandma's bingo night!  We will have wonderful prizes for each round of bingo and also a raffle for BEAUTIFUL\, AUTHENTIC DESIGNER HANDBAGS.  Bingo prizes will include raffle tickets for the designer handbags.\n\nWednesday\, September 25\n\nDoors Open at 5:00 pm\n\nBingo starts at 6:00 pm\n\nAdmission includes: 9 Games of Bingo + Grand Finale Bingo\n\nLight snack and non-alcoholic beverages.\n\nAdditional items for sale at the event include:\n\nDaubers $1 each\n\nFiesta Taco/Nacho Bar from Qdoba $10 per person\n\nIncludes: Grilled Chicken\, Grilled Steak\, Soft Taco Shells\, Shredded Lettuce\, Shredded Cheese\, Guacamole\, Sour Cream\, Salsas\, Tortilla Chips\, 3-Cheese Queso\, Black Beans and Cilantro-Lime Rice\n\nExtra Set of Bingo Cards $10 per set\n\nRaffle Tickets $2 per ticket\n\nWe are offering a Bundle of items for $20 ($31 value)\n\n\n	1 Dauber\n	Fiesta Taco/Nacho Bar\n	1 extra set of Bingo Cards\n	5 raffle tickets\n\n\nFunds raised will be used to create a college scholarship for a high school graduate in the West Des Moines and Waukee School Districts and the Clive Chamber's high school intern program.
X-ALT-DESC;FMTTYPE=text/html:<h2 style="box-sizing: border-box\; font-family: museo-sans\, sans-serif\; font-weight: 500\; line-height: 1.1\; color: rgb(2\, 159\, 90)\; margin-top: 20px\; margin-bottom: 16px\; font-size: 1.6em\; background-color: rgb(255\, 255\, 255)\;"><span style="font-size:16px\;">Please join us for a night of bingo and designer handbags presented by&nbsp\;<a href="https://agent.amfam.com/emily-bannister/ia/clive/15920-hickman-rd/" style="box-sizing: border-box\; background-color: transparent\; color: rgb(65\, 180\, 228)\; text-decoration-line: none\;">American Family Insurance &ndash\; Bannister &amp\; Associates LLC</a>!</span></h2>\n\n<p style="box-sizing: border-box\; font-family: museo-sans\, sans-serif\; margin: 0px 0px 14px\; font-size: 1.1em\; line-height: 1.8em\; color: rgb(51\, 51\, 51)\; background-color: rgb(255\, 255\, 255)\;">This is not your Grandma&rsquo\;s bingo night!&nbsp\; We will have wonderful prizes for each round of bingo and also a raffle for&nbsp\;<span style="box-sizing: border-box\; font-weight: 700\;">BEAUTIFUL\, AUTHENTIC DESIGNER HANDBAGS</span>.&nbsp\; Bingo prizes will include raffle tickets for the designer handbags.</p>\n\n<p style="box-sizing: border-box\; font-family: museo-sans\, sans-serif\; margin: 0px 0px 14px\; font-size: 1.1em\; line-height: 1.8em\; color: rgb(51\, 51\, 51)\; background-color: rgb(255\, 255\, 255)\;"><span style="box-sizing: border-box\; font-weight: 700\;">Wednesday\, September 25</span><br style="box-sizing: border-box\;" />\nDoors Open at 5:00 pm<br style="box-sizing: border-box\;" />\nBingo starts at 6:00 pm</p>\n\n<p style="box-sizing: border-box\; font-family: museo-sans\, sans-serif\; margin: 0px 0px 14px\; font-size: 1.1em\; line-height: 1.8em\; color: rgb(51\, 51\, 51)\; background-color: rgb(255\, 255\, 255)\;">Admission includes: 9 Games of Bingo + Grand Finale Bingo<br style="box-sizing: border-box\;" />\nLight snack and non-alcoholic beverages.</p>\n\n<p style="box-sizing: border-box\; font-family: museo-sans\, sans-serif\; margin: 0px 0px 14px\; font-size: 1.1em\; line-height: 1.8em\; color: rgb(51\, 51\, 51)\; background-color: rgb(255\, 255\, 255)\;"><strong style="box-sizing: border-box\;">Additional items for sale at the event include:</strong><br style="box-sizing: border-box\;" />\n<strong style="box-sizing: border-box\;">Daubers</strong>&nbsp\;$1 each<br style="box-sizing: border-box\;" />\n<strong style="box-sizing: border-box\;">Fiesta Taco/Nacho Bar from Qdoba</strong>&nbsp\;$10 per person<br style="box-sizing: border-box\;" />\n<em style="box-sizing: border-box\;">Includes: Grilled Chicken\, Grilled Steak\, Soft Taco Shells\, Shredded Lettuce\, Shredded Cheese\, Guacamole\, Sour Cream\, Salsas\, Tortilla Chips\, 3-Cheese Queso\, Black Beans and Cilantro-Lime Rice</em><br style="box-sizing: border-box\;" />\n<strong style="box-sizing: border-box\;">Extra Set of Bingo Cards</strong>&nbsp\;$10 per set<br style="box-sizing: border-box\;" />\n<strong style="box-sizing: border-box\;">Raffle Tickets</strong>&nbsp\;$2 per ticket</p>\n\n<p style="box-sizing: border-box\; font-family: museo-sans\, sans-serif\; margin: 0px 0px 14px\; font-size: 1.1em\; line-height: 1.8em\; color: rgb(51\, 51\, 51)\; background-color: rgb(255\, 255\, 255)\;">We are offering a Bundle of items for $20 ($31 value)</p>\n\n<ul style="box-sizing: border-box\; font-family: museo-sans\, sans-serif\; margin-top: 0px\; margin-bottom: 14px\; padding-left: 40px\; color: rgb(51\, 51\, 51)\; font-size: 14px\; background-color: rgb(255\, 255\, 255)\;">\n	<li style="box-sizing: border-box\; margin-bottom: 14px\; font-size: 1.1em\; line-height: 1.8em\;">1 Dauber</li>\n	<li style="box-sizing: border-box\; margin-bottom: 14px\; font-size: 1.1em\; line-height: 1.8em\;">Fiesta Taco/Nacho Bar</li>\n	<li style="box-sizing: border-box\; margin-bottom: 14px\; font-size: 1.1em\; line-height: 1.8em\;">1 extra set of Bingo Cards</li>\n	<li style="box-sizing: border-box\; margin-bottom: 14px\; font-size: 1.1em\; line-height: 1.8em\;">5 raffle tickets</li>\n</ul>\n\n<p style="box-sizing: border-box\; font-family: museo-sans\, sans-serif\; margin: 0px 0px 14px\; font-size: 1.1em\; line-height: 1.8em\; color: rgb(51\, 51\, 51)\; background-color: rgb(255\, 255\, 255)\;"><em style="box-sizing: border-box\;"><span style="box-sizing: border-box\; font-weight: 700\;">Funds raised will be used to create a college scholarship for a high school graduate in the West Des Moines and Waukee School Districts and the Clive Chamber&rsquo\;s high school intern program.</span></em></p>\n
LOCATION:Sherwood Forest Event Center
UID:e.2646.288
SEQUENCE:3
DTSTAMP:20260420T092032Z
URL:https://business.clivechamber.org/events/details/ladies-night-bingo-and-designer-handbag-fundraiser-288
END:VEVENT

END:VCALENDAR
