BEGIN:VCALENDAR
VERSION:2.0
PRODID:-//ChamberMaster//Event Calendar 2.0//EN
METHOD:PUBLISH
X-PUBLISHED-TTL:P3D
REFRESH-INTERVAL:P3D
CALSCALE:GREGORIAN
BEGIN:VEVENT
DTSTART:20190830T163000Z
DTEND:20190830T180000Z
X-MICROSOFT-CDO-ALLDAYEVENT:FALSE
SUMMARY:Lunch on the Plaza
DESCRIPTION:Menu: Smoked Turkey Sandwiches\, Chips\, Cookies\, Soda and Water\n\nMusic: Bob Slings\n\nLunch is FREE but donations are welcomed and accepted. Donations will be directed to Big Brothers Big Sisters of Central Iowa.\n\nIn the event of impossible weather\, Lunch on the Plaza will be moved to the fire bays at Dymond Public Safety Center\, 8505 Harbach Boulevard\n\nLes & Sharon Aasheim
X-ALT-DESC;FMTTYPE=text/html:<p style="box-sizing: border-box\; font-family: museo-sans\, sans-serif\; margin: 0px 0px 14px\; font-size: 1.1em\; line-height: 1.8em\; color: rgb(51\, 51\, 51)\; background-color: rgb(255\, 255\, 255)\;">Menu: Smoked Turkey Sandwiches\, Chips\, Cookies\, Soda and Water</p>\n\n<p style="box-sizing: border-box\; font-family: museo-sans\, sans-serif\; margin: 0px 0px 14px\; font-size: 1.1em\; line-height: 1.8em\; color: rgb(51\, 51\, 51)\; background-color: rgb(255\, 255\, 255)\;">Music: Bob Slings<br />\nLunch is FREE but donations are welcomed and accepted. Donations will be directed to Big Brothers Big Sisters of Central Iowa.</p>\n\n<p style="color: rgb(51\, 51\, 51)\; background-color: rgb(255\, 255\, 255)\; box-sizing: border-box\; font-family: museo-sans\, sans-serif\; margin: 0px 0px 14px\; font-size: 1.1em\; line-height: 1.8em\;">In the event of impossible weather\, Lunch on the Plaza will be moved to the fire bays at Dymond Public Safety Center\, 8505 Harbach Boulevard</p>\n\n<p style="box-sizing: border-box\; font-family: museo-sans\, sans-serif\; margin: 0px 0px 14px\; font-size: 1.1em\; line-height: 1.8em\; color: rgb(51\, 51\, 51)\; background-color: rgb(255\, 255\, 255)\;">Les &amp\; Sharon Aasheim</p>\n
LOCATION:Aasheim Plaza is located on the corner of NW 86th St. and University Blvd.
UID:e.2646.388
SEQUENCE:3
DTSTAMP:20260420T192554Z
URL:https://business.clivechamber.org/events/details/lunch-on-the-plaza-388
END:VEVENT

END:VCALENDAR
